
BEGIN:VCALENDAR
VERSION:2.0
PRODID:-//Museum of Art - DeLand - ECPv6.15.17//NONSGML v1.0//EN
CALSCALE:GREGORIAN
METHOD:PUBLISH
X-ORIGINAL-URL:https://moartdeland.org
X-WR-CALDESC:Events for Museum of Art - DeLand
REFRESH-INTERVAL;VALUE=DURATION:PT1H
X-Robots-Tag:noindex
X-PUBLISHED-TTL:PT1H
BEGIN:VTIMEZONE
TZID:America/New_York
BEGIN:DAYLIGHT
TZOFFSETFROM:-0500
TZOFFSETTO:-0400
TZNAME:EDT
DTSTART:20250309T070000
END:DAYLIGHT
BEGIN:STANDARD
TZOFFSETFROM:-0400
TZOFFSETTO:-0500
TZNAME:EST
DTSTART:20251102T060000
END:STANDARD
BEGIN:DAYLIGHT
TZOFFSETFROM:-0500
TZOFFSETTO:-0400
TZNAME:EDT
DTSTART:20260308T070000
END:DAYLIGHT
BEGIN:STANDARD
TZOFFSETFROM:-0400
TZOFFSETTO:-0500
TZNAME:EST
DTSTART:20261101T060000
END:STANDARD
BEGIN:DAYLIGHT
TZOFFSETFROM:-0500
TZOFFSETTO:-0400
TZNAME:EDT
DTSTART:20270314T070000
END:DAYLIGHT
BEGIN:STANDARD
TZOFFSETFROM:-0400
TZOFFSETTO:-0500
TZNAME:EST
DTSTART:20271107T060000
END:STANDARD
END:VTIMEZONE
BEGIN:VEVENT
DTSTART;TZID=America/New_York:20260515T110000
DTEND;TZID=America/New_York:20260515T113000
DTSTAMP:20260424T093118
CREATED:20251006T233926Z
LAST-MODIFIED:20260423T200722Z
UID:5946-1778842800-1778844600@moartdeland.org
SUMMARY:Storytime @ The Museum
DESCRIPTION:Presented in partnership with Volusia County Public Library\, Storytime @ the Museum is a playful and interactive literacy program specially designed for babies\, toddlers\, and preschoolers. In a fun and welcoming environment\, children and their caregivers will explore stories\, rhymes\, songs\, and movement activities that build early literacy skills and spark imagination. \nEach session is thoughtfully inspired by the Museum’s current exhibitions—helping little ones make connections between words\, images\, and the world around them. \nWhether it’s your child’s first storytime or a favorite weekly tradition\, Storytime @ the Museum offers a fun\, enriching experience for families to learn\, laugh\, and grow together. Admission is free & open to the public. \n2025/26 SCHEDULE   |  11-11:30 a.m. \nNovember 21\, 2025\nDecember 19\, 2025\nJanuary 30\, 2026\nFebruary 20\, 2026\nMarch 20\, 2026\nApril 17\, 2026\nMay 15\, 2026\nAugust 14\, 2026\nSeptember 18\, 2026 \n 
URL:https://moartdeland.org/event/storytime-the-museum/
LOCATION:Museum of Art – DeLand Downtown\, 100 N. Woodland Blvd.\, DeLand\, 32720\, United States
CATEGORIES:Other Events
ATTACH;FMTTYPE=image/png:https://moartdeland.org/wp-content/uploads/2025/10/Storytime-@-the-Museum-logo-web-scaled.png
END:VEVENT
BEGIN:VEVENT
DTSTART;TZID=America/New_York:20260515T160000
DTEND;TZID=America/New_York:20260515T190000
DTSTAMP:20260424T093118
CREATED:20251006T210815Z
LAST-MODIFIED:20260423T200336Z
UID:5942-1778860800-1778871600@moartdeland.org
SUMMARY:Art for All
DESCRIPTION:Discover where art\, community\, and creativity come together with our Art for All event series\, supported by Diana Health. On select Fridays\, enjoy free Museum admission all day plus a free guided art activity from 4 p.m. – 7 p.m. \nBring your family\, invite your friends\, or make it a date night. Art for All invites everyone to explore\, create\, and enjoy art together. \n2025 / 26 SCHEDULE \nNovember 21\, 2025 \nDecember 19\, 2025 \nJanuary 30\, 2026\nFebruary 20\, 2026\nMarch 20\, 2026\nApril 17\, 2026\nMay 15\, 2026\nJune 26\, 2026\nJuly 17\, 2026\nAugust 14\, 2026\nSeptember 18\, 2026 \n  \nThank you to our generous sponsor of Art for All
URL:https://moartdeland.org/event/art-for-all/
LOCATION:Museum of Art – DeLand Downtown\, 100 N. Woodland Blvd.\, DeLand\, 32720\, United States
CATEGORIES:Other Events
ATTACH;FMTTYPE=image/png:https://moartdeland.org/wp-content/uploads/2025/10/Art-for-All-logo.png
END:VEVENT
END:VCALENDAR