
BEGIN:VCALENDAR
VERSION:2.0
PRODID:-//Museum of Art - DeLand - ECPv6.15.17//NONSGML v1.0//EN
CALSCALE:GREGORIAN
METHOD:PUBLISH
X-WR-CALNAME:Museum of Art - DeLand
X-ORIGINAL-URL:https://moartdeland.org
X-WR-CALDESC:Events for Museum of Art - DeLand
REFRESH-INTERVAL;VALUE=DURATION:PT1H
X-Robots-Tag:noindex
X-PUBLISHED-TTL:PT1H
BEGIN:VTIMEZONE
TZID:America/New_York
BEGIN:DAYLIGHT
TZOFFSETFROM:-0500
TZOFFSETTO:-0400
TZNAME:EDT
DTSTART:20250309T070000
END:DAYLIGHT
BEGIN:STANDARD
TZOFFSETFROM:-0400
TZOFFSETTO:-0500
TZNAME:EST
DTSTART:20251102T060000
END:STANDARD
BEGIN:DAYLIGHT
TZOFFSETFROM:-0500
TZOFFSETTO:-0400
TZNAME:EDT
DTSTART:20260308T070000
END:DAYLIGHT
BEGIN:STANDARD
TZOFFSETFROM:-0400
TZOFFSETTO:-0500
TZNAME:EST
DTSTART:20261101T060000
END:STANDARD
BEGIN:DAYLIGHT
TZOFFSETFROM:-0500
TZOFFSETTO:-0400
TZNAME:EDT
DTSTART:20270314T070000
END:DAYLIGHT
BEGIN:STANDARD
TZOFFSETFROM:-0400
TZOFFSETTO:-0500
TZNAME:EST
DTSTART:20271107T060000
END:STANDARD
END:VTIMEZONE
BEGIN:VEVENT
DTSTART;TZID=America/New_York:20260411T130000
DTEND;TZID=America/New_York:20260411T150000
DTSTAMP:20260422T215921
CREATED:20260303T172235Z
LAST-MODIFIED:20260303T172235Z
UID:6119-1775912400-1775919600@moartdeland.org
SUMMARY:Creativity & Wellbeing Workshop
DESCRIPTION:Join us for a joyful and inspiring interactive workshop with Dr. Rajni Shankar-Brown\, globally renowned educator\, artist\, poet\, and advocate for self and community wellbeing. This workshop will celebrate creativity as a powerful pathway to healing\, connection\, and growth! \nThrough reflection\, learning\, and hands-on creative exploration\, participants will experience how art and play can nourish both the individual and the collective spirit. Together\, we will share meaningful moments of insight\, connection\, and joy while supporting our Museum of Art – DeLand\, which is an essential part of our community’s wellbeing and cultural life. \nCome learn\, create\, and play with us in this uplifting experience that honors imagination\, community\, and care! If you have any questions or need special accommodations\, please reach out to Dr. Rajni at rshankar@stetson.edu. \nAdmission: Members $40  |  Future Members $45 \nREGISTER HERE
URL:https://moartdeland.org/event/creativity-wellbeing-workshop/
LOCATION:Museum of Art – DeLand Downtown\, 100 N. Woodland Blvd.\, DeLand\, 32720\, United States
CATEGORIES:Other Events
ATTACH;FMTTYPE=image/png:https://moartdeland.org/wp-content/uploads/2026/03/Creativity-and-Wellness-Workshop.png
END:VEVENT
END:VCALENDAR