
BEGIN:VCALENDAR
VERSION:2.0
PRODID:-//Museum of Art - DeLand - ECPv6.15.17//NONSGML v1.0//EN
CALSCALE:GREGORIAN
METHOD:PUBLISH
X-ORIGINAL-URL:https://moartdeland.org
X-WR-CALDESC:Events for Museum of Art - DeLand
REFRESH-INTERVAL;VALUE=DURATION:PT1H
X-Robots-Tag:noindex
X-PUBLISHED-TTL:PT1H
BEGIN:VTIMEZONE
TZID:America/New_York
BEGIN:DAYLIGHT
TZOFFSETFROM:-0500
TZOFFSETTO:-0400
TZNAME:EDT
DTSTART:20250309T070000
END:DAYLIGHT
BEGIN:STANDARD
TZOFFSETFROM:-0400
TZOFFSETTO:-0500
TZNAME:EST
DTSTART:20251102T060000
END:STANDARD
BEGIN:DAYLIGHT
TZOFFSETFROM:-0500
TZOFFSETTO:-0400
TZNAME:EDT
DTSTART:20260308T070000
END:DAYLIGHT
BEGIN:STANDARD
TZOFFSETFROM:-0400
TZOFFSETTO:-0500
TZNAME:EST
DTSTART:20261101T060000
END:STANDARD
BEGIN:DAYLIGHT
TZOFFSETFROM:-0500
TZOFFSETTO:-0400
TZNAME:EDT
DTSTART:20270314T070000
END:DAYLIGHT
BEGIN:STANDARD
TZOFFSETFROM:-0400
TZOFFSETTO:-0500
TZNAME:EST
DTSTART:20271107T060000
END:STANDARD
END:VTIMEZONE
BEGIN:VEVENT
DTSTART;TZID=America/New_York:20260409T143000
DTEND;TZID=America/New_York:20260409T173000
DTSTAMP:20260422T133411
CREATED:20260318T001348Z
LAST-MODIFIED:20260318T001832Z
UID:6146-1775745000-1775755800@moartdeland.org
SUMMARY:Artist Demo at Stetson University
DESCRIPTION:  \nIn partnership with Stetson University\, join artist Taylor Robenalt for a live ceramics demo in the Sampson Hall ceramics classroom. Robenalt will create work on-site and discuss her process\, including how she builds narratives and develops her pieces. Robenalt’s exhibition\, Peaks & Valleys will be on view at the Museum of Art – DeLand from April 11 – June 7\, 2026. \nFree and open to the public. Check the Stetson University website for visitor parking information.
URL:https://moartdeland.org/event/artist-demo-taylor-robenalt/
LOCATION:Stetson University – Sampson Hall Basement\, 132 E. Minnesota Ave.\, DeLand\, FL\, 32724\, United States
CATEGORIES:Other Events
ATTACH;FMTTYPE=image/png:https://moartdeland.org/wp-content/uploads/2026/03/Artist-Taylor-Robenalt.png
END:VEVENT
END:VCALENDAR