
BEGIN:VCALENDAR
VERSION:2.0
PRODID:-//Museum of Art - DeLand - ECPv6.15.17//NONSGML v1.0//EN
CALSCALE:GREGORIAN
METHOD:PUBLISH
X-ORIGINAL-URL:https://moartdeland.org
X-WR-CALDESC:Events for Museum of Art - DeLand
REFRESH-INTERVAL;VALUE=DURATION:PT1H
X-Robots-Tag:noindex
X-PUBLISHED-TTL:PT1H
BEGIN:VTIMEZONE
TZID:America/New_York
BEGIN:DAYLIGHT
TZOFFSETFROM:-0500
TZOFFSETTO:-0400
TZNAME:EDT
DTSTART:20250309T070000
END:DAYLIGHT
BEGIN:STANDARD
TZOFFSETFROM:-0400
TZOFFSETTO:-0500
TZNAME:EST
DTSTART:20251102T060000
END:STANDARD
BEGIN:DAYLIGHT
TZOFFSETFROM:-0500
TZOFFSETTO:-0400
TZNAME:EDT
DTSTART:20260308T070000
END:DAYLIGHT
BEGIN:STANDARD
TZOFFSETFROM:-0400
TZOFFSETTO:-0500
TZNAME:EST
DTSTART:20261101T060000
END:STANDARD
BEGIN:DAYLIGHT
TZOFFSETFROM:-0500
TZOFFSETTO:-0400
TZNAME:EDT
DTSTART:20270314T070000
END:DAYLIGHT
BEGIN:STANDARD
TZOFFSETFROM:-0400
TZOFFSETTO:-0500
TZNAME:EST
DTSTART:20271107T060000
END:STANDARD
END:VTIMEZONE
BEGIN:VEVENT
DTSTART;TZID=America/New_York:20260124T190000
DTEND;TZID=America/New_York:20260124T220000
DTSTAMP:20260422T214120
CREATED:20251029T183041Z
LAST-MODIFIED:20260108T213620Z
UID:5958-1769281200-1769292000@moartdeland.org
SUMMARY:Timeless Florida: The Highwaymen Gala
DESCRIPTION:Step into a sultry southern evening\, humming with the glow and grit of a backwoods Florida juke joint. Presented in partnership with The Walker Collection of Florida Self-Taught Art\, The Museum of Art – DeLand honors the untold legacy of the Florida Highwaymen in this soul-stirring fundraiser gala. \nJoin us as we celebrate our 2026 opening exhibition\, The Florida Highwaymen: Selections from the Walker Collection and its enduring themes of triumph\, artistry\, and American ingenuity. Your support helps us deliver world-class fine arts programming throughout our community\, throughout the year. Be a part of the cultural highlight of the season and experience Timeless Florida: The Highwaymen Gala at the Museum of Art – DeLand. \nGET TICKETS NOW \n   \n  \n  \n  \n  \nEVENT DETAILS \nSaturday\, January 24\, 2026  |  7-10 p.m. \nMuseum of Art – DeLand  |  100 N. Woodland Blvd. DeLand\, Florida \nTickets $125 Per Person   \nTickets May Be Purchased Here \n  \nThis event is presented in generous partnership with: \n \n  \n  \n  \n  \n  \nAnd thank you to our gala sponsors: \n \n  \n  \n  \n  \n  \n  \n  \nImage: Mary Ann Carroll\, Firesky Backcountry River Oak\, Undated
URL:https://moartdeland.org/event/highwaymen-gala/
LOCATION:Museum of Art – DeLand Downtown\, 100 N. Woodland Blvd.\, DeLand\, 32720\, United States
CATEGORIES:Featured,Other Events
ATTACH;FMTTYPE=image/png:https://moartdeland.org/wp-content/uploads/2025/10/Highwaymen-Gala-Web-Banner.png
END:VEVENT
END:VCALENDAR