
BEGIN:VCALENDAR
VERSION:2.0
PRODID:-//Museum of Art - DeLand - ECPv6.15.17//NONSGML v1.0//EN
CALSCALE:GREGORIAN
METHOD:PUBLISH
X-ORIGINAL-URL:https://moartdeland.org
X-WR-CALDESC:Events for Museum of Art - DeLand
REFRESH-INTERVAL;VALUE=DURATION:PT1H
X-Robots-Tag:noindex
X-PUBLISHED-TTL:PT1H
BEGIN:VTIMEZONE
TZID:America/New_York
BEGIN:DAYLIGHT
TZOFFSETFROM:-0500
TZOFFSETTO:-0400
TZNAME:EDT
DTSTART:20240310T070000
END:DAYLIGHT
BEGIN:STANDARD
TZOFFSETFROM:-0400
TZOFFSETTO:-0500
TZNAME:EST
DTSTART:20241103T060000
END:STANDARD
BEGIN:DAYLIGHT
TZOFFSETFROM:-0500
TZOFFSETTO:-0400
TZNAME:EDT
DTSTART:20250309T070000
END:DAYLIGHT
BEGIN:STANDARD
TZOFFSETFROM:-0400
TZOFFSETTO:-0500
TZNAME:EST
DTSTART:20251102T060000
END:STANDARD
BEGIN:DAYLIGHT
TZOFFSETFROM:-0500
TZOFFSETTO:-0400
TZNAME:EDT
DTSTART:20260308T070000
END:DAYLIGHT
BEGIN:STANDARD
TZOFFSETFROM:-0400
TZOFFSETTO:-0500
TZNAME:EST
DTSTART:20261101T060000
END:STANDARD
END:VTIMEZONE
BEGIN:VEVENT
DTSTART;TZID=America/New_York:20251206T100000
DTEND;TZID=America/New_York:20251206T120000
DTSTAMP:20260422T232805
CREATED:20221031T202415Z
LAST-MODIFIED:20251105T193409Z
UID:3699-1765015200-1765022400@moartdeland.org
SUMMARY:Teddy Bear Brunch
DESCRIPTION:Start the holiday season with a special brunch with Santa\, including photo ops\, teddy bear cookie\, and a special performance by High Standard Dance Company. Bring your favorite Teddy Bear with you! This event is presented by the Guild in support of the Museum of Art – DeLand. \nEVENT DETAILS\nTeddy Bear Brunch  |  Presented by the Guild of the Museum of Art – DeLand \nSaturday\, December 6\, 2025  |  10 a.m.  – 12 p.m. \nLifePoint Community Church \n1747 New York Ave W.\,  DeLand\, Florida 32720 \nAppropriate for ages 3 – 10 \nEmail any special seating requests to: Contact@MoArtDeLand.org \nTICKETS\n$15 Per Person  |  Available for Purchase Here \n  \n 
URL:https://moartdeland.org/event/teddy-bear-brunch-2025/
LOCATION:LifePoint Community Church\, 1747 New York Ave W\, DeLand\, FL\, 32720
CATEGORIES:Other Events
ATTACH;FMTTYPE=image/png:https://moartdeland.org/wp-content/uploads/2022/10/Teddy-Bear-Brunch-Website-1.png
END:VEVENT
END:VCALENDAR