
BEGIN:VCALENDAR
VERSION:2.0
PRODID:-//Museum of Art - DeLand - ECPv6.15.17//NONSGML v1.0//EN
CALSCALE:GREGORIAN
METHOD:PUBLISH
X-ORIGINAL-URL:https://moartdeland.org
X-WR-CALDESC:Events for Museum of Art - DeLand
REFRESH-INTERVAL;VALUE=DURATION:PT1H
X-Robots-Tag:noindex
X-PUBLISHED-TTL:PT1H
BEGIN:VTIMEZONE
TZID:America/New_York
BEGIN:DAYLIGHT
TZOFFSETFROM:-0500
TZOFFSETTO:-0400
TZNAME:EDT
DTSTART:20240310T070000
END:DAYLIGHT
BEGIN:STANDARD
TZOFFSETFROM:-0400
TZOFFSETTO:-0500
TZNAME:EST
DTSTART:20241103T060000
END:STANDARD
BEGIN:DAYLIGHT
TZOFFSETFROM:-0500
TZOFFSETTO:-0400
TZNAME:EDT
DTSTART:20250309T070000
END:DAYLIGHT
BEGIN:STANDARD
TZOFFSETFROM:-0400
TZOFFSETTO:-0500
TZNAME:EST
DTSTART:20251102T060000
END:STANDARD
BEGIN:DAYLIGHT
TZOFFSETFROM:-0500
TZOFFSETTO:-0400
TZNAME:EDT
DTSTART:20260308T070000
END:DAYLIGHT
BEGIN:STANDARD
TZOFFSETFROM:-0400
TZOFFSETTO:-0500
TZNAME:EST
DTSTART:20261101T060000
END:STANDARD
END:VTIMEZONE
BEGIN:VEVENT
DTSTART;TZID=America/New_York:20251030T173000
DTEND;TZID=America/New_York:20251030T183000
DTSTAMP:20260423T010152
CREATED:20251006T235030Z
LAST-MODIFIED:20251006T235030Z
UID:5952-1761845400-1761849000@moartdeland.org
SUMMARY:2025 Annual Meeting
DESCRIPTION:On Thursday\, October 30\, the Museum of Art – DeLand will host its 2025 Annual Membership Meeting in Pearce Chapel at Northwest Square. All members will be emailed a slate of Trustees and a voting form prior to the meeting. If you are unable to attend\, please watch your inbox for proxy voting form with slate of Board of Trustees. \nDETAILS\n2025 Annual Membership Meeting  \nThursday\, October 30\, 2025  |  5:30-6:30 p.m.\n \nPearce Chapel at Northwest Square \n238 N. Clara Ave. DeLand\, FL 32720
URL:https://moartdeland.org/event/2025-annual-meeting/
LOCATION:Northwest Square\, 238 N. Clara Ave.\, DeLand\, FL\, 32720\, United States
CATEGORIES:Other Events
ATTACH;FMTTYPE=image/png:https://moartdeland.org/wp-content/uploads/2022/10/Annual-Meeting.png
END:VEVENT
END:VCALENDAR