
BEGIN:VCALENDAR
VERSION:2.0
PRODID:-//Museum of Art - DeLand - ECPv6.15.17//NONSGML v1.0//EN
CALSCALE:GREGORIAN
METHOD:PUBLISH
X-ORIGINAL-URL:https://moartdeland.org
X-WR-CALDESC:Events for Museum of Art - DeLand
REFRESH-INTERVAL;VALUE=DURATION:PT1H
X-Robots-Tag:noindex
X-PUBLISHED-TTL:PT1H
BEGIN:VTIMEZONE
TZID:America/New_York
BEGIN:DAYLIGHT
TZOFFSETFROM:-0500
TZOFFSETTO:-0400
TZNAME:EDT
DTSTART:20240310T070000
END:DAYLIGHT
BEGIN:STANDARD
TZOFFSETFROM:-0400
TZOFFSETTO:-0500
TZNAME:EST
DTSTART:20241103T060000
END:STANDARD
BEGIN:DAYLIGHT
TZOFFSETFROM:-0500
TZOFFSETTO:-0400
TZNAME:EDT
DTSTART:20250309T070000
END:DAYLIGHT
BEGIN:STANDARD
TZOFFSETFROM:-0400
TZOFFSETTO:-0500
TZNAME:EST
DTSTART:20251102T060000
END:STANDARD
BEGIN:DAYLIGHT
TZOFFSETFROM:-0500
TZOFFSETTO:-0400
TZNAME:EDT
DTSTART:20260308T070000
END:DAYLIGHT
BEGIN:STANDARD
TZOFFSETFROM:-0400
TZOFFSETTO:-0500
TZNAME:EST
DTSTART:20261101T060000
END:STANDARD
END:VTIMEZONE
BEGIN:VEVENT
DTSTART;TZID=America/New_York:20250422T183000
DTEND;TZID=America/New_York:20250422T204500
DTSTAMP:20260423T133306
CREATED:20250330T212942Z
LAST-MODIFIED:20250330T214055Z
UID:5756-1745346600-1745354700@moartdeland.org
SUMMARY:Reflections on Water
DESCRIPTION:The Museum of Art – DeLand is proud to partner with Stetson University’s Institute for Water and Environmental Resilience (IWER) to host an Earth Day panel and art installation\, Reflections on Water: An Artistic and Scientific Dialogue. The night will be underscored by a breathtaking\, immersive video projection by artist Luciana Abait. “The Glass Wall\,” will displayed on the outside of the front wall of the Aquatic Center building. \nThe panel consists of Martha Underriner of the Museum of Art – DeLand as moderator\, artist Luciana Abait\, Dr. Jason Evans of the Institute for Water and Environmental Resilience\,  Stephanie Liskey of Sailforth Productions\, and Brenda Wells of the Florida Springs Council. \n \nLuciana Abait is a multi-media artist\, originally from Argentina. Her work focuses on climate change\, environmental fragility\, and their impact on immigrants. Her work\, “The Glass Wall” draws attention to the global water crisis\, representing the abilities and limits of humanity’s power to control nature. The installation awakens viewers to the threat of natural disasters\, the importance of water conservation\, but also “the hope that humans can overcome the challenges of climate change and create a sustainable future.” \nLuciana’s work is global in nature\, and the panel’s goal will be to localize the conversation to Florida water concerns and the science and communication surrounding those concerns. \nEVENT DETAILS \nReflections on Water: An Artistic & Scientific Dialogue \nTuesday\, April 22\, 2025  |  6:30 – 8:45 p.m. \n Sandra Stetson Aquatic Center  \n2636 Alhambra Ave.\, DeLand\, Florida 32720 \nPanel Discussion 6:30 – 7:30 p.m. \n Video on Display until 8:45 p.m. \nAdmission: FREE & Open to the Public \n  \nImage: From The Glass Wall by Luciana Abait
URL:https://moartdeland.org/event/reflections-on-water/
LOCATION:Sandra Stetson Aquatic Center\, 2636 Alhambra Ave.\, DeLand\, Florida\, 32720
CATEGORIES:Other Events
ATTACH;FMTTYPE=image/png:https://moartdeland.org/wp-content/uploads/2025/03/The-Glass-Wall-3.png
END:VEVENT
END:VCALENDAR