
BEGIN:VCALENDAR
VERSION:2.0
PRODID:-//Museum of Art - DeLand - ECPv6.15.17//NONSGML v1.0//EN
CALSCALE:GREGORIAN
METHOD:PUBLISH
X-ORIGINAL-URL:https://moartdeland.org
X-WR-CALDESC:Events for Museum of Art - DeLand
REFRESH-INTERVAL;VALUE=DURATION:PT1H
X-Robots-Tag:noindex
X-PUBLISHED-TTL:PT1H
BEGIN:VTIMEZONE
TZID:America/New_York
BEGIN:DAYLIGHT
TZOFFSETFROM:-0500
TZOFFSETTO:-0400
TZNAME:EDT
DTSTART:20240310T070000
END:DAYLIGHT
BEGIN:STANDARD
TZOFFSETFROM:-0400
TZOFFSETTO:-0500
TZNAME:EST
DTSTART:20241103T060000
END:STANDARD
BEGIN:DAYLIGHT
TZOFFSETFROM:-0500
TZOFFSETTO:-0400
TZNAME:EDT
DTSTART:20250309T070000
END:DAYLIGHT
BEGIN:STANDARD
TZOFFSETFROM:-0400
TZOFFSETTO:-0500
TZNAME:EST
DTSTART:20251102T060000
END:STANDARD
BEGIN:DAYLIGHT
TZOFFSETFROM:-0500
TZOFFSETTO:-0400
TZNAME:EDT
DTSTART:20260308T070000
END:DAYLIGHT
BEGIN:STANDARD
TZOFFSETFROM:-0400
TZOFFSETTO:-0500
TZNAME:EST
DTSTART:20261101T060000
END:STANDARD
END:VTIMEZONE
BEGIN:VEVENT
DTSTART;TZID=America/New_York:20250221T180000
DTEND;TZID=America/New_York:20250221T193000
DTSTAMP:20260423T164939
CREATED:20250203T233052Z
LAST-MODIFIED:20250203T233052Z
UID:5639-1740160800-1740166200@moartdeland.org
SUMMARY:Art and Sound
DESCRIPTION:Art and Sound is a unique musical presentation showcasing the compositions of students from Dr. Chaz Underriner’s Advanced Scoring for the Media class at Stetson University. \nSet against the backdrop of Thomas D. Mangelsen’s exhibition\, A Life in the Wild\, this event explores the intersection of art and sound. Each student composer has crafted immersive soundscapes inspired by Mangelsen’s photography\, with every piece designed to enhance and complement the gallery setting. During the event\, the artists will present their works\, offering insights into their creative process and the connection between sound and imagery. \nEVENT DETAILS \nArt & Sound at the Museum of Art – DeLand \nFriday\, February 21\, 2025  |  6 – 7:30 p.m. \n600 N. Woodland Blvd. DeLand\, Florida 32720 \nAdmission is FREE & open to the public \n  \nImage: Thomas D. Mangelsen\, Amboseli Crossing Legacy\, FujiFlex Crystal Archive Print
URL:https://moartdeland.org/event/art-and-sound/
LOCATION:Museum of Art – DeLand\, 600 N. Woodland Blvd.\, DeLand\, FL\, 32720\, United States
CATEGORIES:Other Events
ATTACH;FMTTYPE=image/jpeg:https://moartdeland.org/wp-content/uploads/2025/02/Thomas-D-Mangelsen-Amboseli-Crossing-Legacy.jpg
END:VEVENT
END:VCALENDAR