
BEGIN:VCALENDAR
VERSION:2.0
PRODID:-//Museum of Art - DeLand - ECPv6.15.17//NONSGML v1.0//EN
CALSCALE:GREGORIAN
METHOD:PUBLISH
X-ORIGINAL-URL:https://moartdeland.org
X-WR-CALDESC:Events for Museum of Art - DeLand
REFRESH-INTERVAL;VALUE=DURATION:PT1H
X-Robots-Tag:noindex
X-PUBLISHED-TTL:PT1H
BEGIN:VTIMEZONE
TZID:America/New_York
BEGIN:DAYLIGHT
TZOFFSETFROM:-0500
TZOFFSETTO:-0400
TZNAME:EDT
DTSTART:20240310T070000
END:DAYLIGHT
BEGIN:STANDARD
TZOFFSETFROM:-0400
TZOFFSETTO:-0500
TZNAME:EST
DTSTART:20241103T060000
END:STANDARD
BEGIN:DAYLIGHT
TZOFFSETFROM:-0500
TZOFFSETTO:-0400
TZNAME:EDT
DTSTART:20250309T070000
END:DAYLIGHT
BEGIN:STANDARD
TZOFFSETFROM:-0400
TZOFFSETTO:-0500
TZNAME:EST
DTSTART:20251102T060000
END:STANDARD
BEGIN:DAYLIGHT
TZOFFSETFROM:-0500
TZOFFSETTO:-0400
TZNAME:EDT
DTSTART:20260308T070000
END:DAYLIGHT
BEGIN:STANDARD
TZOFFSETFROM:-0400
TZOFFSETTO:-0500
TZNAME:EST
DTSTART:20261101T060000
END:STANDARD
END:VTIMEZONE
BEGIN:VEVENT
DTSTART;TZID=America/New_York:20250208T120000
DTEND;TZID=America/New_York:20250208T130000
DTSTAMP:20260423T164932
CREATED:20250111T210504Z
LAST-MODIFIED:20250111T210504Z
UID:5572-1739016000-1739019600@moartdeland.org
SUMMARY:Artist Talk for Educators
DESCRIPTION:Join us as world-renowned nature photographer Thomas D. Mangelsen gives an impactful artist talk especially for educators. Here\, the award-winning photographer will discuss his work\, his travels and his commitment to conservation\, among other topics. Mangelsen’s exhibition\, A Life in the Wild will be on view at the Museum of Art – DeLand through August 31. \nEVENT DETAILS \nArtist Talk for Educators with Thomas D. Mangelsen \nSaturday\, February 8\, 2025  |  12 p.m. – 1 p.m. \nMuseum of Art – DeLand \n600 N. Woodland Blvd. DeLand\, Florida 32744 \nAdmission is FREE & open to all educators  \nRSVPs appreciated at (386) 734-4371 \n  \nImage: Thomas D. Mangelsen\, Bathtime in Maasailand
URL:https://moartdeland.org/event/mangelsen-artist-talk/
LOCATION:Museum of Art – DeLand\, 600 N. Woodland Blvd.\, DeLand\, FL\, 32720\, United States
CATEGORIES:Other Events
ATTACH;FMTTYPE=image/jpeg:https://moartdeland.org/wp-content/uploads/2025/01/Thomas-D-Mangelsen-Bathtime-in-Maasailand.jpg
END:VEVENT
END:VCALENDAR