
BEGIN:VCALENDAR
VERSION:2.0
PRODID:-//Museum of Art - DeLand - ECPv6.15.17//NONSGML v1.0//EN
CALSCALE:GREGORIAN
METHOD:PUBLISH
X-WR-CALNAME:Museum of Art - DeLand
X-ORIGINAL-URL:https://moartdeland.org
X-WR-CALDESC:Events for Museum of Art - DeLand
REFRESH-INTERVAL;VALUE=DURATION:PT1H
X-Robots-Tag:noindex
X-PUBLISHED-TTL:PT1H
BEGIN:VTIMEZONE
TZID:America/New_York
BEGIN:DAYLIGHT
TZOFFSETFROM:-0500
TZOFFSETTO:-0400
TZNAME:EDT
DTSTART:20230312T070000
END:DAYLIGHT
BEGIN:STANDARD
TZOFFSETFROM:-0400
TZOFFSETTO:-0500
TZNAME:EST
DTSTART:20231105T060000
END:STANDARD
BEGIN:DAYLIGHT
TZOFFSETFROM:-0500
TZOFFSETTO:-0400
TZNAME:EDT
DTSTART:20240310T070000
END:DAYLIGHT
BEGIN:STANDARD
TZOFFSETFROM:-0400
TZOFFSETTO:-0500
TZNAME:EST
DTSTART:20241103T060000
END:STANDARD
BEGIN:DAYLIGHT
TZOFFSETFROM:-0500
TZOFFSETTO:-0400
TZNAME:EDT
DTSTART:20250309T070000
END:DAYLIGHT
BEGIN:STANDARD
TZOFFSETFROM:-0400
TZOFFSETTO:-0500
TZNAME:EST
DTSTART:20251102T060000
END:STANDARD
END:VTIMEZONE
BEGIN:VEVENT
DTSTART;TZID=America/New_York:20241026T100000
DTEND;TZID=America/New_York:20241026T130000
DTSTAMP:20260424T085727
CREATED:20240912T204600Z
LAST-MODIFIED:20240912T211907Z
UID:5257-1729936800-1729947600@moartdeland.org
SUMMARY:Introduction to Sumi-e Workshop
DESCRIPTION:Discover the traditions\, history\, and techniques of the ancient and beloved art of Japanese Sumi-e brush painting. Originally inspired by the paintings of Chinese aristocrats and Buddhist monks\, this Asian art form uses traditional calligraphy brushes\, special ink\, and rice paper to paint flowers\, animals\, and insects. Learn key brush strokes to create your own images.  \nEVENT DETAILS\n\nSaturday\, October 26th\, in the event space at 100 N. Woodland Blvd.\n10:00 AM -1:00 PM \n$45 for members\, $50 for future members\nAll materials provided \nSuitable for ages 14 and above
URL:https://moartdeland.org/event/introduction-to-sumi-e-workshop/
LOCATION:Museum of Art – DeLand Downtown\, 100 N. Woodland Blvd.\, DeLand\, 32720\, United States
CATEGORIES:Other Events
ATTACH;FMTTYPE=image/jpeg:https://moartdeland.org/wp-content/uploads/2024/09/Sumi-e-Image-1-scaled.jpg
END:VEVENT
END:VCALENDAR