
BEGIN:VCALENDAR
VERSION:2.0
PRODID:-//Museum of Art - DeLand - ECPv6.15.17//NONSGML v1.0//EN
CALSCALE:GREGORIAN
METHOD:PUBLISH
X-ORIGINAL-URL:https://moartdeland.org
X-WR-CALDESC:Events for Museum of Art - DeLand
REFRESH-INTERVAL;VALUE=DURATION:PT1H
X-Robots-Tag:noindex
X-PUBLISHED-TTL:PT1H
BEGIN:VTIMEZONE
TZID:America/New_York
BEGIN:DAYLIGHT
TZOFFSETFROM:-0500
TZOFFSETTO:-0400
TZNAME:EDT
DTSTART:20250309T070000
END:DAYLIGHT
BEGIN:STANDARD
TZOFFSETFROM:-0400
TZOFFSETTO:-0500
TZNAME:EST
DTSTART:20251102T060000
END:STANDARD
BEGIN:DAYLIGHT
TZOFFSETFROM:-0500
TZOFFSETTO:-0400
TZNAME:EDT
DTSTART:20260308T070000
END:DAYLIGHT
BEGIN:STANDARD
TZOFFSETFROM:-0400
TZOFFSETTO:-0500
TZNAME:EST
DTSTART:20261101T060000
END:STANDARD
BEGIN:DAYLIGHT
TZOFFSETFROM:-0500
TZOFFSETTO:-0400
TZNAME:EDT
DTSTART:20270314T070000
END:DAYLIGHT
BEGIN:STANDARD
TZOFFSETFROM:-0400
TZOFFSETTO:-0500
TZNAME:EST
DTSTART:20271107T060000
END:STANDARD
END:VTIMEZONE
BEGIN:VEVENT
DTSTART;TZID=America/New_York:20260313T173000
DTEND;TZID=America/New_York:20260313T190000
DTSTAMP:20260422T164519
CREATED:20251222T194522Z
LAST-MODIFIED:20251222T194522Z
UID:6051-1773423000-1773428400@moartdeland.org
SUMMARY:In the Gallery with Gary Monroe
DESCRIPTION:Join us for an engaging art talk with Gary Monroe\, the author and scholar who first brought national attention to the Florida Highwaymen through his extensive research and writing. \n\n\n\n\nImage: Orlando Sentinel\n\n\nMonroe will share insights from decades of documenting the artists\, their work\, and the cultural context that shaped this groundbreaking movement\, offering audiences a deeper understanding of how the Highwaymen came to be recognized as an essential part of American art history. \n\nThis talk provides valuable context for anyone interested in the Highwaymen’s legacy\, the power of storytelling\, and the role of scholarship in preserving artistic voices that might otherwise have been overlooked. \n–\nEVENT DETAILS\nIn the Gallery with Gary Monroe: The Highwaymen Story\nFriday\, March 13\, 2026  |  5:30 – 7 p.m.\nGallery opens at 5:30  |  Talk begins at 6 p.m.\n100 N. Woodland Blvd. DeLand\, Florida 32720\nAdmission: Members Free  |  Future Members $10\n–\n–\nImage: Willie Reagan\, Untitled\, No date\, Oil on upson board\, 24 x 36 in.\, Photo by John Burke
URL:https://moartdeland.org/event/in-the-gallery-with-gary-monroe/
LOCATION:Museum of Art – DeLand Downtown\, 100 N. Woodland Blvd.\, DeLand\, 32720\, United States
CATEGORIES:Other Events
ATTACH;FMTTYPE=image/jpeg:https://moartdeland.org/wp-content/uploads/2025/12/Compressed-Willie-Reagan-Untitled-No-date-Oil-on-upson-board-24-x-36-in-Photo-by-John-Burke-scaled.jpg
END:VEVENT
BEGIN:VEVENT
DTSTART;TZID=America/New_York:20260321T090000
DTEND;TZID=America/New_York:20260321T150000
DTSTAMP:20260422T164519
CREATED:20250310T192246Z
LAST-MODIFIED:20260209T154432Z
UID:5717-1774083600-1774105200@moartdeland.org
SUMMARY:Artists in the Garden
DESCRIPTION:The Museum Guild’s annual fundraiser is growing this year! Come see incredible artists\, including 13 brand new faces\, showcasing their work in a beautiful outdoor setting. \n\n\n\n\n\n30 artists\nArt demonstrations\nPlein air artists\nCash cafe & bake shop\nBeverage & mimosa stations\nWine pull\nSilent Auction\nLive music\n\n\n\n\n\nProceeds to benefit Museum of Art – DeLand. \nSaturday\, March 21\, 2026  |  9 a.m. – 3 p.m. \nThe Garden Shop at Select Growers \n4391 Highway 11 North\, DeLeon Springs\, Florida \nNo cost to attend with easy-access parking\, held in beautiful grounds and covered pavilions. Questions? Call (386) 734-4371.
URL:https://moartdeland.org/event/artists-in-the-garden-2026/
LOCATION:The Garden Shop at Select Growers\, 4391 FL-11\, DeLeon Springs\, FL\, 32130\, United States
CATEGORIES:Other Events
ATTACH;FMTTYPE=image/png:https://moartdeland.org/wp-content/uploads/2021/03/Artists-in-the-Garden-Website-Event-Page.png
END:VEVENT
END:VCALENDAR