
BEGIN:VCALENDAR
VERSION:2.0
PRODID:-//Museum of Art - DeLand - ECPv6.15.17//NONSGML v1.0//EN
CALSCALE:GREGORIAN
METHOD:PUBLISH
X-ORIGINAL-URL:https://moartdeland.org
X-WR-CALDESC:Events for Museum of Art - DeLand
REFRESH-INTERVAL;VALUE=DURATION:PT1H
X-Robots-Tag:noindex
X-PUBLISHED-TTL:PT1H
BEGIN:VTIMEZONE
TZID:America/New_York
BEGIN:DAYLIGHT
TZOFFSETFROM:-0500
TZOFFSETTO:-0400
TZNAME:EDT
DTSTART:20240310T070000
END:DAYLIGHT
BEGIN:STANDARD
TZOFFSETFROM:-0400
TZOFFSETTO:-0500
TZNAME:EST
DTSTART:20241103T060000
END:STANDARD
BEGIN:DAYLIGHT
TZOFFSETFROM:-0500
TZOFFSETTO:-0400
TZNAME:EDT
DTSTART:20250309T070000
END:DAYLIGHT
BEGIN:STANDARD
TZOFFSETFROM:-0400
TZOFFSETTO:-0500
TZNAME:EST
DTSTART:20251102T060000
END:STANDARD
BEGIN:DAYLIGHT
TZOFFSETFROM:-0500
TZOFFSETTO:-0400
TZNAME:EDT
DTSTART:20260308T070000
END:DAYLIGHT
BEGIN:STANDARD
TZOFFSETFROM:-0400
TZOFFSETTO:-0500
TZNAME:EST
DTSTART:20261101T060000
END:STANDARD
END:VTIMEZONE
BEGIN:VEVENT
DTSTART;TZID=America/New_York:20251105T111500
DTEND;TZID=America/New_York:20251105T130000
DTSTAMP:20260422T232616
CREATED:20251006T205217Z
LAST-MODIFIED:20251006T205217Z
UID:5937-1762341300-1762347600@moartdeland.org
SUMMARY:Elements of Style
DESCRIPTION:You’re invited to a stylish afternoon of fashion\, friendship and philanthropy. Join the Museum Guild for a delightful day at the beautiful Magnolia Ballroom at Victoria Gardens Clubhouse as they present “Elements of Style: Timeless Designs”—a fundraising event benefiting the Museum’s educational programs. \nEnjoy an exclusive showcase of Em’z on Fifth of Mount Dora’s Fall & Winter collection\, featuring chic apparel\, accessories\, and unique gift items. Our models—Guild members and friends—will grace the runway\, celebrating confidence\, style\, and the power of art. Plus\, every ticket includes entry into a drawing for fabulous door prizes. \nGather with friends\, savor a delicious lunch\, and support a wonderful cause. This much-loved event sells out quickly—don’t miss your chance to be part of an afternoon that inspires and gives back. \nWednesday\, November 5\, 2025  |  11:15 a.m. – 1 p.m. \nDoors open at 11:15 a.m. | Lunch served at 11:45 a.m. \nVictoria Gardens Clubhouse\, Magnolia Ballroom \n1001 Garden Club Dr. DeLand\, Florida 32724 \nTickets: $35 for Museum members  |  $40 for future members. \nFor Reservations\, call the Museum at (386) 734-4371 Tuesday through Friday\, 10 a.m. – 4 p.m.
URL:https://moartdeland.org/event/elements-of-style/
LOCATION:Victoria Gardens Ballroom\, 1001 Garden Club Drive\, DeLand\, 32724\, United States
CATEGORIES:Other Events
ATTACH;FMTTYPE=image/png:https://moartdeland.org/wp-content/uploads/2025/10/Fall-Fashion-Show-2025-1.png
END:VEVENT
BEGIN:VEVENT
DTSTART;TZID=America/New_York:20251114T170000
DTEND;TZID=America/New_York:20251114T190000
DTSTAMP:20260422T232616
CREATED:20250729T130021Z
LAST-MODIFIED:20251106T165716Z
UID:5888-1763139600-1763146800@moartdeland.org
SUMMARY:Opening Reception & Artist Talk
DESCRIPTION:Join us for the opening reception of Gary Lichtenstein: Painter & Master Printer\, featuring a talk by the artist. This thrilling exhibition features work from the renowned artists who have teamed-up with Lichtenstein to produce a wide range of silkscreen editions and multiples over the course of his remarkable 45-year career\, as well as the artist’s original paintings. \nEVENT DETAILS \nOpening Reception & Artist Talk |  Gary Lichtenstein: Painter & Master Printer  \nFriday\, November 14\, 2025  |  5-7 p.m. \n100 N. Woodland Blvd. DeLand\, Florida 32720 \nAdmission: Members Free  |  Future Members $15 \n  \nImage: Gary Lichtenstein\, Ink Cans on Canvas \n\n\n\n\n  \n\n\n\n\n 
URL:https://moartdeland.org/event/opening-reception/
LOCATION:Museum of Art – DeLand Downtown\, 100 N. Woodland Blvd.\, DeLand\, 32720\, United States
CATEGORIES:Exhibit Openings,Other Events
ATTACH;FMTTYPE=image/jpeg:https://moartdeland.org/wp-content/uploads/2025/07/GL-Ink-Cans_on-canvas-scaled.jpg
END:VEVENT
BEGIN:VEVENT
DTSTART;TZID=America/New_York:20251115T173000
DTEND;TZID=America/New_York:20251115T193000
DTSTAMP:20260422T232616
CREATED:20251006T164705Z
LAST-MODIFIED:20251106T165917Z
UID:5931-1763227800-1763235000@moartdeland.org
SUMMARY:In Conversation with Gary Lichtenstein
DESCRIPTION:Join us for an in-depth conversation with Gary Lichtenstein\, the renowned artist whose work has shaped and supported generations of contemporary creators. Lichtenstein will share insights into his 45-year career as both an abstract painter and a pioneering printmaker\, reflecting on key collaborations\, his creative process\, and the evolution of silkscreen as a fine art medium. \nSaturday\, November 15\, 2025  |  5:30 – 7:30 p.m.  \n100 N. Woodland Blvd. DeLand\, Florida 32720 \nAdmission: Free for members  |  $10 for future members
URL:https://moartdeland.org/event/in-conversation-with-gary-lichtenstein/
LOCATION:Museum of Art – DeLand Downtown\, 100 N. Woodland Blvd.\, DeLand\, 32720\, United States
CATEGORIES:Other Events
ATTACH;FMTTYPE=image/png:https://moartdeland.org/wp-content/uploads/2025/10/Gary.png
END:VEVENT
END:VCALENDAR