
BEGIN:VCALENDAR
VERSION:2.0
PRODID:-//Museum of Art - DeLand - ECPv6.15.17//NONSGML v1.0//EN
CALSCALE:GREGORIAN
METHOD:PUBLISH
X-WR-CALNAME:Museum of Art - DeLand
X-ORIGINAL-URL:https://moartdeland.org
X-WR-CALDESC:Events for Museum of Art - DeLand
REFRESH-INTERVAL;VALUE=DURATION:PT1H
X-Robots-Tag:noindex
X-PUBLISHED-TTL:PT1H
BEGIN:VTIMEZONE
TZID:America/New_York
BEGIN:DAYLIGHT
TZOFFSETFROM:-0500
TZOFFSETTO:-0400
TZNAME:EDT
DTSTART:20240310T070000
END:DAYLIGHT
BEGIN:STANDARD
TZOFFSETFROM:-0400
TZOFFSETTO:-0500
TZNAME:EST
DTSTART:20241103T060000
END:STANDARD
BEGIN:DAYLIGHT
TZOFFSETFROM:-0500
TZOFFSETTO:-0400
TZNAME:EDT
DTSTART:20250309T070000
END:DAYLIGHT
BEGIN:STANDARD
TZOFFSETFROM:-0400
TZOFFSETTO:-0500
TZNAME:EST
DTSTART:20251102T060000
END:STANDARD
BEGIN:DAYLIGHT
TZOFFSETFROM:-0500
TZOFFSETTO:-0400
TZNAME:EDT
DTSTART:20260308T070000
END:DAYLIGHT
BEGIN:STANDARD
TZOFFSETFROM:-0400
TZOFFSETTO:-0500
TZNAME:EST
DTSTART:20261101T060000
END:STANDARD
END:VTIMEZONE
BEGIN:VEVENT
DTSTART;TZID=America/New_York:20250808T170000
DTEND;TZID=America/New_York:20250808T190000
DTSTAMP:20260423T042230
CREATED:20250725T194128Z
LAST-MODIFIED:20250725T194916Z
UID:5875-1754672400-1754679600@moartdeland.org
SUMMARY:Art Sale Reception
DESCRIPTION:From our vault to your walls—own a piece of the Museum’s history and help secure our future. Join us for the rare chance to acquire select works from our collection\, as well as educational materials\, at our upcoming Art Deaccessioning Sale. \nWith an exclusive evening gathering on Friday\, August 8\, attendees will have first access to make a donation for the artwork of their choice while enjoying a reception of drinks and snacks. The cost of admission goes toward your donation. \nAfter the event\, remaining pieces will be available to the public at our 600 N. Woodland Blvd. location during regular business hours. \nEvent Details:  \nArt Sale Reception  |  Supporting the Museum’s Move Downtown \nFriday\, August 8\, 2025 |  5-7 p.m. \nMuseum of Art – DeLand \n600 N. Woodland Blvd. DeLand\, Florida 32720 \nAdmission: $20\, applied toward your artwork donation  \n  \nImage: David Garcia\, 1996\, Glass Bowl
URL:https://moartdeland.org/event/art-sale-reception/
LOCATION:Museum of Art – DeLand\, 600 N. Woodland Blvd.\, DeLand\, FL\, 32720\, United States
CATEGORIES:Other Events
ATTACH;FMTTYPE=image/jpeg:https://moartdeland.org/wp-content/uploads/2025/07/David-Garcia-1996-Glass-Bowl.jpg
END:VEVENT
BEGIN:VEVENT
DTSTART;TZID=America/New_York:20250816T100000
DTEND;TZID=America/New_York:20250816T130000
DTSTAMP:20260423T042230
CREATED:20191007T163327Z
LAST-MODIFIED:20250726T133405Z
UID:1657-1755338400-1755349200@moartdeland.org
SUMMARY:Family Fun Saturday
DESCRIPTION:Looking for a fun afternoon with the family? Join us for Family Fun Saturday\, scheduled on a select day each month at the Museum of Art – DeLand. All visitors enjoy FREE gallery admission. \nPlus\, we’ll be offering a free Gallery Photo Scavenger Hunt for kids from 10 a.m. – 1 p.m. Please note that children must be accompanied by an adult at all times. \nThis free event is the perfect destination where visitors of all ages can spend time together enjoying outstanding art and artists\, discovering their creativity\, and engaging their imaginations. \n  \nWhen: Saturday\, July 19\, 2025  |  10:00 a.m. – 4:00 p.m. \nWhere: 600 N. Woodland Blvd.\, DeLand\, Florida 32720 \nAdmission:  FREE FOR EVERYONE \nFamily Fun Saturdays are sponsored in part by Duke Energy and the Rotary Club of DeLand. \n \n 
URL:https://moartdeland.org/event/family-fun-saturday-2025/
LOCATION:Museum of Art – DeLand\, 600 N. Woodland Blvd.\, DeLand\, FL\, 32720\, United States
CATEGORIES:Other Events
ATTACH;FMTTYPE=image/jpeg:https://moartdeland.org/wp-content/uploads/2019/10/pexels-yan-krukov-8613054.jpg
END:VEVENT
END:VCALENDAR