
BEGIN:VCALENDAR
VERSION:2.0
PRODID:-//Museum of Art - DeLand - ECPv6.15.17//NONSGML v1.0//EN
CALSCALE:GREGORIAN
METHOD:PUBLISH
X-ORIGINAL-URL:https://moartdeland.org
X-WR-CALDESC:Events for Museum of Art - DeLand
REFRESH-INTERVAL;VALUE=DURATION:PT1H
X-Robots-Tag:noindex
X-PUBLISHED-TTL:PT1H
BEGIN:VTIMEZONE
TZID:America/New_York
BEGIN:DAYLIGHT
TZOFFSETFROM:-0500
TZOFFSETTO:-0400
TZNAME:EDT
DTSTART:20240310T070000
END:DAYLIGHT
BEGIN:STANDARD
TZOFFSETFROM:-0400
TZOFFSETTO:-0500
TZNAME:EST
DTSTART:20241103T060000
END:STANDARD
BEGIN:DAYLIGHT
TZOFFSETFROM:-0500
TZOFFSETTO:-0400
TZNAME:EDT
DTSTART:20250309T070000
END:DAYLIGHT
BEGIN:STANDARD
TZOFFSETFROM:-0400
TZOFFSETTO:-0500
TZNAME:EST
DTSTART:20251102T060000
END:STANDARD
BEGIN:DAYLIGHT
TZOFFSETFROM:-0500
TZOFFSETTO:-0400
TZNAME:EDT
DTSTART:20260308T070000
END:DAYLIGHT
BEGIN:STANDARD
TZOFFSETFROM:-0400
TZOFFSETTO:-0500
TZNAME:EST
DTSTART:20261101T060000
END:STANDARD
END:VTIMEZONE
BEGIN:VEVENT
DTSTART;TZID=America/New_York:20250319T140000
DTEND;TZID=America/New_York:20250319T160000
DTSTAMP:20260423T133059
CREATED:20250219T162000Z
LAST-MODIFIED:20250219T171104Z
UID:5653-1742392800-1742400000@moartdeland.org
SUMMARY:Acrylic Painting: Concepts and Techniques  With David Fithian Session 1
DESCRIPTION:Class Description\nDiscover the endless possibilities of acrylic painting in this dynamic\, hands-on class. Whether you’re a beginner or an experienced artist\, this course is designed to help you bring your creative vision to life—whether in abstract or realistic styles. Through the guidance of artist David Fithian\, you’ll explore composition\, design\, color theory\, and acrylic techniques. Work on existing projects or start a brand-new series while experimenting with various materials and mediums. The class includes demonstrations\, personalized feedback\, ongoing critiques\, and a supportive environment to create your best work. Unleash your creativity and make your artistic ideas a reality! \nMeetings\nSession 1: Meets Wednesdays 3/19-4/9\, 2:00pm-4:00pm\nSession 2: Meets Wednesdays 4/16-5/7\, 2:00pm-4:00pm\nMeets at 600 N. Woodland Blvd\n(Session 1 is encouraged before session 2\, but not required) \nMaterials\nBasic acrylic paints\, brushes\, and canvas are supplied\, but students can bring their own materials \nCost\n$100 for members/$120 for future members for each 4-week session\nRegister online at moartdeland.org\nMaximum 10 students\, for adults and ages 16+ \nDavid Fithian Bio\nDavid Fithian grew up in Daytona Beach\, Florida as a creative child and adolescent. He attended the Art Students League in Woodstock\, New York\, and the Pennsylvania Academy of the Fine Arts.  David has taught at the Crealde School of Art in Winter Park\, the Maitland Art Center\, and the Artist’s Workshop in New Smyrna Beach. In addition to teaching he has managed the Graphics Department at Drexel University in Philadelphia\, operated a commercial photography and fine art studio\, and was the Curator of Art and Exhibitions at the Museum of Art – DeLand from 2001 until retiring in 2020. He maintains an active studio and exhibits his work regularly. \nTickets can be purchased below:
URL:https://moartdeland.org/event/acrylic-painting-concepts-and-techniques-with-david-fithian-session-1a/
LOCATION:Museum of Art – DeLand\, 600 N. Woodland Blvd.\, DeLand\, FL\, 32720\, United States
CATEGORIES:Other Events
ATTACH;FMTTYPE=image/jpeg:https://moartdeland.org/wp-content/uploads/2025/02/Acrylic-Painting-Image-Fithian-Beach.jpg
END:VEVENT
BEGIN:VEVENT
DTSTART;TZID=America/New_York:20250321T180000
DTEND;TZID=America/New_York:20250321T200000
DTSTAMP:20260423T133059
CREATED:20250129T183935Z
LAST-MODIFIED:20250131T172920Z
UID:5631-1742580000-1742587200@moartdeland.org
SUMMARY:Art After Dark
DESCRIPTION:After the Museum has closed for the night\, enjoy an exclusive guided tour and create an art piece inspired by our latest downtown exhibition\, Carlie Trosclair: all the lives we ever lived. Plus\, to get your creative juices flowing\, this event is BYOB. \n• No art experience necessary. \n• All supplies and instructions are provided. \n• Bring your own beer or wine. \nEVENT DETAILS\nArt After Dark: Guided Tour & Workshop \nFriday\, March 21st  |  6-8 p.m. \nMuseum of Art – DeLand\, Downtown  \n100 N. Woodland Blvd. DeLand\, Florida 32720 \n$15 Members  |  $20 Future Members \nRegistration and payment are required in advance. You may register below:
URL:https://moartdeland.org/event/art-after-dark-4/
LOCATION:Museum of Art – DeLand Downtown\, 100 N. Woodland Blvd.\, DeLand\, 32720\, United States
CATEGORIES:Other Events
ATTACH;FMTTYPE=image/png:https://moartdeland.org/wp-content/uploads/2023/08/Art-After-Dark-Museum-of-Art-DeLand.png
END:VEVENT
BEGIN:VEVENT
DTSTART;TZID=America/New_York:20250326T140000
DTEND;TZID=America/New_York:20250326T160000
DTSTAMP:20260423T133059
CREATED:20250219T162418Z
LAST-MODIFIED:20250219T171205Z
UID:5658-1742997600-1743004800@moartdeland.org
SUMMARY:Acrylic Painting: Concepts and Techniques  With David Fithian Session 1
DESCRIPTION:Class Description\nDiscover the endless possibilities of acrylic painting in this dynamic\, hands-on class. Whether you’re a beginner or an experienced artist\, this course is designed to help you bring your creative vision to life—whether in abstract or realistic styles. Through the guidance of artist David Fithian\, you’ll explore composition\, design\, color theory\, and acrylic techniques. Work on existing projects or start a brand-new series while experimenting with various materials and mediums. The class includes demonstrations\, personalized feedback\, ongoing critiques\, and a supportive environment to create your best work. Unleash your creativity and make your artistic ideas a reality! \nMeetings\nSession 1: Meets Wednesdays 3/19-4/9\, 2:00pm-4:00pm\nSession 2: Meets Wednesdays 4/16-5/7\, 2:00pm-4:00pm\nMeets at 600 N. Woodland Blvd\n(Session 1 is encouraged before session 2\, but not required) \nMaterials\nBasic acrylic paints\, brushes\, and canvas are supplied\, but students can bring their own materials \nCost\n$100 for members/$120 for future members for each 4-week session\nRegister online at moartdeland.org\nMaximum 10 students\, for adults and ages 16+ \nDavid Fithian Bio\nDavid Fithian grew up in Daytona Beach\, Florida as a creative child and adolescent. He attended the Art Students League in Woodstock\, New York\, and the Pennsylvania Academy of the Fine Arts.  David has taught at the Crealde School of Art in Winter Park\, the Maitland Art Center\, and the Artist’s Workshop in New Smyrna Beach. In addition to teaching he has managed the Graphics Department at Drexel University in Philadelphia\, operated a commercial photography and fine art studio\, and was the Curator of Art and Exhibitions at the Museum of Art – DeLand from 2001 until retiring in 2020. He maintains an active studio and exhibits his work regularly. \nClick here to purchase tickets
URL:https://moartdeland.org/event/acrylic-painting-concepts-and-techniques-with-david-fithian-session-1b/
LOCATION:Museum of Art – DeLand\, 600 N. Woodland Blvd.\, DeLand\, FL\, 32720\, United States
CATEGORIES:Other Events
ATTACH;FMTTYPE=image/jpeg:https://moartdeland.org/wp-content/uploads/2025/02/Acrylic-Painting-Image-Fithian-Beach.jpg
END:VEVENT
END:VCALENDAR