
BEGIN:VCALENDAR
VERSION:2.0
PRODID:-//Museum of Art - DeLand - ECPv6.15.17//NONSGML v1.0//EN
CALSCALE:GREGORIAN
METHOD:PUBLISH
X-WR-CALNAME:Museum of Art - DeLand
X-ORIGINAL-URL:https://moartdeland.org
X-WR-CALDESC:Events for Museum of Art - DeLand
REFRESH-INTERVAL;VALUE=DURATION:PT1H
X-Robots-Tag:noindex
X-PUBLISHED-TTL:PT1H
BEGIN:VTIMEZONE
TZID:America/New_York
BEGIN:DAYLIGHT
TZOFFSETFROM:-0500
TZOFFSETTO:-0400
TZNAME:EDT
DTSTART:20240310T070000
END:DAYLIGHT
BEGIN:STANDARD
TZOFFSETFROM:-0400
TZOFFSETTO:-0500
TZNAME:EST
DTSTART:20241103T060000
END:STANDARD
BEGIN:DAYLIGHT
TZOFFSETFROM:-0500
TZOFFSETTO:-0400
TZNAME:EDT
DTSTART:20250309T070000
END:DAYLIGHT
BEGIN:STANDARD
TZOFFSETFROM:-0400
TZOFFSETTO:-0500
TZNAME:EST
DTSTART:20251102T060000
END:STANDARD
BEGIN:DAYLIGHT
TZOFFSETFROM:-0500
TZOFFSETTO:-0400
TZNAME:EDT
DTSTART:20260308T070000
END:DAYLIGHT
BEGIN:STANDARD
TZOFFSETFROM:-0400
TZOFFSETTO:-0500
TZNAME:EST
DTSTART:20261101T060000
END:STANDARD
END:VTIMEZONE
BEGIN:VEVENT
DTSTART;TZID=America/New_York:20250118T100000
DTEND;TZID=America/New_York:20250118T130000
DTSTAMP:20260423T164554
CREATED:20241225T204339Z
LAST-MODIFIED:20241225T204339Z
UID:5484-1737194400-1737205200@moartdeland.org
SUMMARY:Family Fun Saturday
DESCRIPTION:Looking for a fun afternoon with the family? Join us for a special Family Fun Saturday as we welcome featured artist Carlie Trosclair\, whose exhibition all the lives we ever lived will be on view at our downtown gallery space. All visitors enjoy FREE gallery admission on Family Fun Saturday. \nTrosclair will instruct a free hands-on art activity for kids from 10 a.m. – 1 p.m. Please note that children must be accompanied by an adult at all times. \nThis free event is the perfect destination where visitors of all ages can spend time together enjoying outstanding art and artists\, discovering their creativity\, and engaging their imaginations. \n  \nWhen: Saturday\, January 18\, 2025  |  10:00 a.m. – 1:00 p.m. \nWhere: 100 N. Woodland Blvd.\, DeLand\, Florida 32720 \nAdmission:  FREE\n \n\n  \nThis exhibition and event are funded in part by a grant from South Arts in partnership with the National Endowment for the Arts and the Florida Division of Arts and Culture.\n \n \n  \n  \n  \n\n  \nFamily Fun Saturdays are sponsored in part by Duke Energy and the Rotary Club of DeLand. \n \n\n  \n  \n \n  \n 
URL:https://moartdeland.org/event/family-fun-saturday-trosclair/
LOCATION:Museum of Art – DeLand Downtown\, 100 N. Woodland Blvd.\, DeLand\, 32720\, United States
CATEGORIES:Carlie Trosclair Exhibition & Events,Other Events
ATTACH;FMTTYPE=image/jpeg:https://moartdeland.org/wp-content/uploads/2024/12/pexels-gustavo-fring-4241344-scaled.jpg
END:VEVENT
BEGIN:VEVENT
DTSTART;TZID=America/New_York:20250125T100000
DTEND;TZID=America/New_York:20250125T130000
DTSTAMP:20260423T164554
CREATED:20241212T170356Z
LAST-MODIFIED:20250124T155913Z
UID:5456-1737799200-1737810000@moartdeland.org
SUMMARY:Silicone Mold Making Workshop with Carlie Trosclair
DESCRIPTION:Discover the art and science of silicone mold-making in this hands-on\, three-hour workshop designed for creators\, artists\, and DIY enthusiasts of all skill levels. Artist Carlie Trosclair will introduce participants to the essential tools\, materials\, and techniques required to craft one-part silicone molds. Participants can bring small objects that they would like to cast or pre-selected objects will also be available. All materials are provided and no experience is required. Dress for mess. \n\nAges 16+\n$50 for Museum Members\n$60 for Non-Members\nRegistration & payment may be made using the fields below\n\nThis workshop is funded in part by a grant from South Arts in partnership with the National Endowment for the Arts and State of FL Division of Cultural Affairs. \n \n  \n 
URL:https://moartdeland.org/event/silicone-mold-making-workshop-with-carlie-trosclair/
LOCATION:Museum of Art – DeLand Downtown\, 100 N. Woodland Blvd.\, DeLand\, 32720\, United States
CATEGORIES:Carlie Trosclair Exhibition & Events,Other Events
ATTACH;FMTTYPE=image/png:https://moartdeland.org/wp-content/uploads/2024/12/Mold-Making-Workshop-1.png
END:VEVENT
BEGIN:VEVENT
DTSTART;TZID=America/New_York:20250125T190000
DTEND;TZID=America/New_York:20250125T220000
DTSTAMP:20260423T164554
CREATED:20241208T205618Z
LAST-MODIFIED:20250124T205217Z
UID:5433-1737831600-1737842400@moartdeland.org
SUMMARY:2025 Annual Gala Fundraiser
DESCRIPTION:Join us for a spectacular fundraiser evening as we celebrate our 2025 opening exhibition\, Carlie Trosclair: all the lives we ever lived. \nWith exceptional catering by Venue 142\, this special gala event will feature heavy appetizers\, music and signature cocktails\, held in the rotunda of the Volusia County Historic Courthouse. \nAll proceeds will benefit the Museum’s educational programs. \n  \nEVENT DETAILS \nMuseum of Art – DeLand 2025 Annual Gala Fundraiser \nSaturday\, January 25\, 2025  |  7-10 p.m. \nThe Volusia County Historic Courthouse \n112 W. Indiana Avenue\, DeLand\, Florida 32720  \nParking in the adjacent lot \nCheck-in & champagne toast at 100 N. Woodland Blvd. gallery space at 6:45 p.m. \nTickets: $100 per person\n \n  \nThis event is generously sponsored by: \n 
URL:https://moartdeland.org/event/gala-2025/
LOCATION:The Volusia County Historic Courthouse\, 112 W. Indiana Ave.\, DeLand\, FL\, 32720\, United States
CATEGORIES:Carlie Trosclair Exhibition & Events,Featured,Other Events
ATTACH;FMTTYPE=image/png:https://moartdeland.org/wp-content/uploads/2024/12/Carlie-Trosclair-Gala-1.png
END:VEVENT
BEGIN:VEVENT
DTSTART;TZID=America/New_York:20250131T180000
DTEND;TZID=America/New_York:20250131T193000
DTSTAMP:20260423T164554
CREATED:20241225T211543Z
LAST-MODIFIED:20250101T200230Z
UID:5493-1738346400-1738351800@moartdeland.org
SUMMARY:Artist Talk with Carlie Trosclair
DESCRIPTION:Join us for a special Artist Talk with sculptor and installation artist Carlie Trosclair as she discusses her current exhibition\, all the lives we ever lived. The evening will feature a panel discussion on the Dutton House and the art piece Trosclair created in the historic property especially for this exhibition\, as well as a community conversation on historic preservation here in DeLand. \n  \nEVENT DETAILS \nArtist Talk & Panel Discussion with Carlie Trosclair \nFriday\, January 31\, 2025  |  6-7:30 p.m. \nMuseum of Art – DeLand\, Downtown Gallery \n100 N. Woodland Blvd. DeLand\, Florida 32720 \nAdmission: Members Free  |  Future Members $5 \nRSVPs are appreciated at (386) 734-4371. \nThis exhibition and event are funded in part by a grant from South Arts in partnership with the National Endowment for the Arts and the Florida Division of Arts and Culture.\n \n \n  \n  \n 
URL:https://moartdeland.org/event/trosclair-artist-talk/
LOCATION:Museum of Art – DeLand Downtown\, 100 N. Woodland Blvd.\, DeLand\, 32720\, United States
CATEGORIES:Carlie Trosclair Exhibition & Events,Other Events
ATTACH;FMTTYPE=image/jpeg:https://moartdeland.org/wp-content/uploads/2024/12/Carlie-Trosclair-th.jpg
END:VEVENT
END:VCALENDAR