
BEGIN:VCALENDAR
VERSION:2.0
PRODID:-//Museum of Art - DeLand - ECPv6.15.17//NONSGML v1.0//EN
CALSCALE:GREGORIAN
METHOD:PUBLISH
X-WR-CALNAME:Museum of Art - DeLand
X-ORIGINAL-URL:https://moartdeland.org
X-WR-CALDESC:Events for Museum of Art - DeLand
REFRESH-INTERVAL;VALUE=DURATION:PT1H
X-Robots-Tag:noindex
X-PUBLISHED-TTL:PT1H
BEGIN:VTIMEZONE
TZID:America/New_York
BEGIN:DAYLIGHT
TZOFFSETFROM:-0500
TZOFFSETTO:-0400
TZNAME:EDT
DTSTART:20230312T070000
END:DAYLIGHT
BEGIN:STANDARD
TZOFFSETFROM:-0400
TZOFFSETTO:-0500
TZNAME:EST
DTSTART:20231105T060000
END:STANDARD
BEGIN:DAYLIGHT
TZOFFSETFROM:-0500
TZOFFSETTO:-0400
TZNAME:EDT
DTSTART:20240310T070000
END:DAYLIGHT
BEGIN:STANDARD
TZOFFSETFROM:-0400
TZOFFSETTO:-0500
TZNAME:EST
DTSTART:20241103T060000
END:STANDARD
BEGIN:DAYLIGHT
TZOFFSETFROM:-0500
TZOFFSETTO:-0400
TZNAME:EDT
DTSTART:20250309T070000
END:DAYLIGHT
BEGIN:STANDARD
TZOFFSETFROM:-0400
TZOFFSETTO:-0500
TZNAME:EST
DTSTART:20251102T060000
END:STANDARD
END:VTIMEZONE
BEGIN:VEVENT
DTSTART;TZID=America/New_York:20241207T100000
DTEND;TZID=America/New_York:20241207T120000
DTSTAMP:20260424T030426
CREATED:20241112T182831Z
LAST-MODIFIED:20241112T185539Z
UID:5333-1733565600-1733572800@moartdeland.org
SUMMARY:Teddy Bear Brunch
DESCRIPTION:Start the holiday season with a special brunch with Santa\, including photo ops\, entertainment\, teddy bear cookie\, and more. Bring your favorite Teddy Bear with you! This event is presented by the Guild in support of the Museum of Art – DeLand. \nEVENT DETAILS\nTeddy Bear Brunch\nSaturday\, December 7\, 2024\n10 a.m.  – 12 p.m. \nPresented by the Guild of the Museum of Art – DeLand \n600 N. Woodland Blvd. DeLand\, Florida 32720 \nDoors open at 9:45 a.m.\nAppropriate for ages 3 – 10. Call for special seating requests. \nTickets: $15
URL:https://moartdeland.org/event/teddy-bear-brunch-2/
LOCATION:Museum of Art – DeLand\, 600 N. Woodland Blvd.\, DeLand\, FL\, 32720\, United States
CATEGORIES:Other Events
ATTACH;FMTTYPE=image/png:https://moartdeland.org/wp-content/uploads/2022/10/Teddy-Bear-Brunch-Website-1.png
END:VEVENT
BEGIN:VEVENT
DTSTART;TZID=America/New_York:20241212T180000
DTEND;TZID=America/New_York:20241212T190000
DTSTAMP:20260424T030426
CREATED:20241126T203603Z
LAST-MODIFIED:20241126T205719Z
UID:5375-1734026400-1734030000@moartdeland.org
SUMMARY:Guided Gallery Tour
DESCRIPTION:Join our Curator of Education\, Martha Underriner\, for a guided gallery tour of our international juried exhibition in contemporary sculpture\, FORM + SPACE 2024. \nEVENT DETAILS \nGuided Gallery Tour: FORM + SPACE 2024 \nThursday\, December 12\, 2024  |  6-7 p.m. \nMuseum of Art – DeLand\, Downtown Gallery \n100 N. Woodland Blvd. DeLand\, Florida 32720 \nAdmission: Members Free  |  Future Members $5 \nRSVPs appreciated at (386) 734-4371. \n 
URL:https://moartdeland.org/event/form-space-tour/
LOCATION:Museum of Art – DeLand Downtown\, 100 N. Woodland Blvd.\, DeLand\, 32720\, United States
CATEGORIES:Other Events
ATTACH;FMTTYPE=image/jpeg:https://moartdeland.org/wp-content/uploads/2024/11/FplusS3.jpg
END:VEVENT
END:VCALENDAR