
BEGIN:VCALENDAR
VERSION:2.0
PRODID:-//Museum of Art - DeLand - ECPv6.15.17//NONSGML v1.0//EN
CALSCALE:GREGORIAN
METHOD:PUBLISH
X-WR-CALNAME:Museum of Art - DeLand
X-ORIGINAL-URL:https://moartdeland.org
X-WR-CALDESC:Events for Museum of Art - DeLand
REFRESH-INTERVAL;VALUE=DURATION:PT1H
X-Robots-Tag:noindex
X-PUBLISHED-TTL:PT1H
BEGIN:VTIMEZONE
TZID:America/New_York
BEGIN:DAYLIGHT
TZOFFSETFROM:-0500
TZOFFSETTO:-0400
TZNAME:EDT
DTSTART:20230312T070000
END:DAYLIGHT
BEGIN:STANDARD
TZOFFSETFROM:-0400
TZOFFSETTO:-0500
TZNAME:EST
DTSTART:20231105T060000
END:STANDARD
BEGIN:DAYLIGHT
TZOFFSETFROM:-0500
TZOFFSETTO:-0400
TZNAME:EDT
DTSTART:20240310T070000
END:DAYLIGHT
BEGIN:STANDARD
TZOFFSETFROM:-0400
TZOFFSETTO:-0500
TZNAME:EST
DTSTART:20241103T060000
END:STANDARD
BEGIN:DAYLIGHT
TZOFFSETFROM:-0500
TZOFFSETTO:-0400
TZNAME:EDT
DTSTART:20250309T070000
END:DAYLIGHT
BEGIN:STANDARD
TZOFFSETFROM:-0400
TZOFFSETTO:-0500
TZNAME:EST
DTSTART:20251102T060000
END:STANDARD
END:VTIMEZONE
BEGIN:VEVENT
DTSTART;TZID=America/New_York:20240907T123000
DTEND;TZID=America/New_York:20240907T153000
DTSTAMP:20260424T103228
CREATED:20240618T014157Z
LAST-MODIFIED:20240623T210258Z
UID:4998-1725712200-1725723000@moartdeland.org
SUMMARY:Printmaking Workshop
DESCRIPTION:Inspired by our exhibition of Adolf Dehn: Prints & Watercolors\, try your hand at carving your own relief linoleum block\, and learn to ink and then hand print your image. Prints will be made using oil-based\, water-soluble ink on a variety of paper. \nNo experience necessary. Two gifted local printmakers\, Fontaine Rodgers and Anna Coleman\, will be there to guide you and make the process a success. \n\nINSTRUCTORS\nFontaine Rodgers is an artist\, educator and the current President of the Central Florida Printmakers. She is a resident of DeLand and teaches classes for the Museum of Art – DeLand. She received her BFA in Drawing and Printmaking from The Maryland Institute\, College of Art. As a retired International Baccalaureate Art Teacher she brings a wealth of experience to the classroom. \n  \nAnna Coleman is a freelance illustrator and printmaker living in Deltona. She received formal training in Fine Art at Flagler College where she earned her BFA in 2011. Her style is versatile\, ranging from detailed traditional paintings to whimsical digital illustrations to charming relief prints. Anna’s favorite things are animals\, vintage aesthetics and the outdoors\, which make them recurring themes in her work. \n\nEVENT DETAILS\nPrintmaking Workshop with Fontaine Rodgers & Anna Coleman\nSaturday\, September 7\, 2024  |  12:30 – 3:30 p.m.\nMuseum of Art – DeLand\, Downtown Event Space\n100 N. Woodland Blvd. DeLand\, Florida 32720\n\nCost : $45 per person\nMaximum 25 participants \n\n\nParticipants must register and pay in advance on this webpage using the fields below.\n  \nImage: Print by Anna Coleman
URL:https://moartdeland.org/event/printmaking-workshop-2024/
LOCATION:Museum of Art – DeLand Downtown\, 100 N. Woodland Blvd.\, DeLand\, 32720\, United States
CATEGORIES:Other Events
ATTACH;FMTTYPE=image/png:https://moartdeland.org/wp-content/uploads/2024/06/Printmaking-Workshop-2024.png
END:VEVENT
BEGIN:VEVENT
DTSTART;TZID=America/New_York:20240911T103000
DTEND;TZID=America/New_York:20241023T120000
DTSTAMP:20260424T103228
CREATED:20240728T230403Z
LAST-MODIFIED:20240811T181717Z
UID:5045-1726050600-1729684800@moartdeland.org
SUMMARY:Docent Training Program
DESCRIPTION:Are you an art lover\, history buff\, public speaker\, or people-person? If you answered yes\, then we invite you to apply for our upcoming Docent Training Program. When you train to become a docent\, you’ll enjoy a mini-art history course with our Curator of Education\, Martha Underriner\, who has an MA in Art Education and an MFA in Studio Art. The training program will be an 8-week class\, meeting on a select Wednesday each month from 10:30 a.m. – 12 p.m. \nDocents are a vital link between what’s displayed in the Museum and how visitors respond to what they see. Our docents are a diverse group of volunteers who share a passion for art and the community. They are active\, enthusiastic\, imaginative\, and knowledgeable. Historically\, a docent was a tour guide who talked while visitors listened. Today\, docents do so much more than just talk.  Our docents help visitors of all ages discover the world of art by creating inquiry-based field studies and tours centered on the art. \nTo qualify as a docent you should have: \n\n\n\n\n\nAn abiding interest in the visual arts\nGood public speaking skills\nAbility to work well with children and adults\nFlexibility\, dependability\, time\, and commitment\n\n\n\n\n\n2024-2025 Docent Training Program Dates\nWednesday\, September 11\, 2024\nWednesday\, October 9\, 2024\nWednesday\, November 13\, 2024\nWednesday\, December 11\, 2024\nWednesday\, January 8\, 2025\nWednesday\, February 12\, 2025\nWednesday\, March 12\, 2025\nWednesday\, April 9\, 2025\n \n  \nTo apply\, click the link HERE and follow the application instructions. \n 
URL:https://moartdeland.org/event/docent-training-program-2024-25/
LOCATION:Museum of Art – DeLand\, 600 N. Woodland Blvd.\, DeLand\, FL\, 32720\, United States
CATEGORIES:Other Events
ATTACH;FMTTYPE=image/png:https://moartdeland.org/wp-content/uploads/2022/08/Docent-Training-Museum-of-Art-DeLand.png
END:VEVENT
BEGIN:VEVENT
DTSTART;TZID=America/New_York:20240913T180000
DTEND;TZID=America/New_York:20240913T200000
DTSTAMP:20260424T103228
CREATED:20240618T010325Z
LAST-MODIFIED:20240618T185657Z
UID:4977-1726250400-1726257600@moartdeland.org
SUMMARY:Arts & Drafts: Adolf Dehn Exhibition
DESCRIPTION:Presented in partnership with local bar and market\, Sidecar\, Arts & Drafts: A Beer Tasting + Art Making Workshop returns for a new installment of the popular series\, hosted in our downtown DeLand gallery. \nJoin us as we create multiple thoughtfully-crafted art projects inspired by the work of Adolf Dehn while sampling tasty beers provided by Sidecar. No art experience is required – all projects will be designed for any level of skill. \nProjects include a variety of printmaking and watercolor projects with all arts supplies\, guided instructions and a flight of six 4oz. beer samples included. Participants must be 21 or older\, and register in advance on this webpage using the fields provided. \n\nEVENT DETAILS\n\nArts & Drafts: Beer Tasting + Art Making Workshop\nFeaturing Adolf Dehn: Prints & Watercolors\nFriday\, September 13\, 2024  |  6-8 p.m.\nMuseum of Art – DeLand\, Downtown Gallery\n100 N. Woodland Blvd. DeLand\, Florida 32720\nMembers: $30  |  Non Members: $35\nMaximum 30 participants\n\n\n\n\n\n\n\nThis exhibition is made possible\, in part\, by the Florida State of the Arts license plate program and the Cultural Council of Volusia County. \n\n 
URL:https://moartdeland.org/event/arts-and-drafts-adolf-dehn/
LOCATION:Museum of Art – DeLand Downtown\, 100 N. Woodland Blvd.\, DeLand\, 32720\, United States
CATEGORIES:Other Events
ATTACH;FMTTYPE=image/jpeg:https://moartdeland.org/wp-content/uploads/2024/06/pexels-elevate-1269025.jpg
END:VEVENT
END:VCALENDAR