
BEGIN:VCALENDAR
VERSION:2.0
PRODID:-//Museum of Art - DeLand - ECPv6.15.17//NONSGML v1.0//EN
CALSCALE:GREGORIAN
METHOD:PUBLISH
X-ORIGINAL-URL:https://moartdeland.org
X-WR-CALDESC:Events for Museum of Art - DeLand
REFRESH-INTERVAL;VALUE=DURATION:PT1H
X-Robots-Tag:noindex
X-PUBLISHED-TTL:PT1H
BEGIN:VTIMEZONE
TZID:America/New_York
BEGIN:DAYLIGHT
TZOFFSETFROM:-0500
TZOFFSETTO:-0400
TZNAME:EDT
DTSTART:20230312T070000
END:DAYLIGHT
BEGIN:STANDARD
TZOFFSETFROM:-0400
TZOFFSETTO:-0500
TZNAME:EST
DTSTART:20231105T060000
END:STANDARD
BEGIN:DAYLIGHT
TZOFFSETFROM:-0500
TZOFFSETTO:-0400
TZNAME:EDT
DTSTART:20240310T070000
END:DAYLIGHT
BEGIN:STANDARD
TZOFFSETFROM:-0400
TZOFFSETTO:-0500
TZNAME:EST
DTSTART:20241103T060000
END:STANDARD
BEGIN:DAYLIGHT
TZOFFSETFROM:-0500
TZOFFSETTO:-0400
TZNAME:EDT
DTSTART:20250309T070000
END:DAYLIGHT
BEGIN:STANDARD
TZOFFSETFROM:-0400
TZOFFSETTO:-0500
TZNAME:EST
DTSTART:20251102T060000
END:STANDARD
END:VTIMEZONE
BEGIN:VEVENT
DTSTART;TZID=America/New_York:20240417T080000
DTEND;TZID=America/New_York:20241006T160000
DTSTAMP:20260425T114407
CREATED:20240516T004831Z
LAST-MODIFIED:20240814T000751Z
UID:4946-1713340800-1728230400@moartdeland.org
SUMMARY:The Figure
DESCRIPTION:Discover the Museum’s diverse collection with pieces that range from realistic to abstract. The wide array of mediums and depictions of the figure emphasize the diversity of humankind and show us just how connected we are to one another. Works by Purvis Young\, Renato Rampolla\, Jennifer York\, Jerry Weiss\, Arthur Rayford and more. \nEXHIBITION DETAILS \nThe Figure: Selections from the Permanent Collection \nOn view through October 6\, 2024 \n600 N. Woodland Blvd. DeLand\, Florida 32720 \nAdmission: Members Free | Non-Members $5 \n  \nImage: Karl Zerbe\, Woman Eating a Bean\, 1963\, Acrylic Collage\, 36 x 25 in. (Detail)
URL:https://moartdeland.org/event/the-figure/
LOCATION:Museum of Art – DeLand\, 600 N. Woodland Blvd.\, DeLand\, FL\, 32720\, United States
CATEGORIES:Exhibitions,Featured
ATTACH;FMTTYPE=image/jpeg:https://moartdeland.org/wp-content/uploads/2024/05/Karl-Zerbe-Woman-Eating-a-Bean.jpg
END:VEVENT
BEGIN:VEVENT
DTSTART;TZID=America/New_York:20240713T100000
DTEND;TZID=America/New_York:20240915T160000
DTSTAMP:20260425T114408
CREATED:20240523T235438Z
LAST-MODIFIED:20240609T130555Z
UID:4960-1720864800-1726416000@moartdeland.org
SUMMARY:Adolf Dehn
DESCRIPTION:Adolf Dehn was one of the most notable lithographers of the 20th century\, known for both his technical skills and his depictions of human eccentricities. Today\, his work resides in over 80 museums\, including every major museum in New York City. He holds the record for inclusion in the most Whitney Museum of American Art “Annual” and “Biennial” than any other artist to date. \nBorn in Waterville\, Minnesota\, in 1895\, Adolf Dehn created artwork from an early age and after formal training began creating ink drawings and lithographs by 1920. His images of the Roaring ’20s\, the Depression era and New York City appeared in magazines including Vanity Fair\, Vogue and New Yorker. His lithographs spoofed all aspects of society\, and his watercolors depicted beautiful landscapes. \nOn the heels of his success as a landscape watercolorist and chronicler of various American regions during the Depression\, Dehn undertook several commercial commissions starting in the late 1940s\, including Standard Oil. Dehn completed numerous drawings and watercolors of oil fields and industrial activities in Venezuela\, Mexico\, and Louisiana. \nExhibition Details\nAdolf Dehn: Prints & Watercolors \nJuly 13 – September 15\, 2024 \nMuseum of Art – DeLand\, Downtown Gallery  \n100 N. Woodland Blvd. DeLand\, Florida 32720 \nAdmission: Members Free | Non-Members $5 \n  \nThis exhibition is made possible\, in part\, by the Florida State of the Arts \nlicense plate program and the Cultural Council of Volusia County. \n \n  \n  \n  \n  \nImage: Adolf Dehn\, Italian Hillside\, No date\, Watercolor on Paper\, 21 x 29 in.
URL:https://moartdeland.org/event/adolf-dehn/
LOCATION:Museum of Art – DeLand Downtown\, 100 N. Woodland Blvd.\, DeLand\, 32720\, United States
CATEGORIES:Exhibitions,Featured
ATTACH;FMTTYPE=image/jpeg:https://moartdeland.org/wp-content/uploads/2024/05/Adolf-Dehn-Italian-Hillside-No-date-Watercolor-on-Paper-21-x-29-in-scaled.jpg
END:VEVENT
END:VCALENDAR