
BEGIN:VCALENDAR
VERSION:2.0
PRODID:-//Museum of Art - DeLand - ECPv6.15.17//NONSGML v1.0//EN
CALSCALE:GREGORIAN
METHOD:PUBLISH
X-WR-CALNAME:Museum of Art - DeLand
X-ORIGINAL-URL:https://moartdeland.org
X-WR-CALDESC:Events for Museum of Art - DeLand
REFRESH-INTERVAL;VALUE=DURATION:PT1H
X-Robots-Tag:noindex
X-PUBLISHED-TTL:PT1H
BEGIN:VTIMEZONE
TZID:America/New_York
BEGIN:DAYLIGHT
TZOFFSETFROM:-0500
TZOFFSETTO:-0400
TZNAME:EDT
DTSTART:20230312T070000
END:DAYLIGHT
BEGIN:STANDARD
TZOFFSETFROM:-0400
TZOFFSETTO:-0500
TZNAME:EST
DTSTART:20231105T060000
END:STANDARD
BEGIN:DAYLIGHT
TZOFFSETFROM:-0500
TZOFFSETTO:-0400
TZNAME:EDT
DTSTART:20240310T070000
END:DAYLIGHT
BEGIN:STANDARD
TZOFFSETFROM:-0400
TZOFFSETTO:-0500
TZNAME:EST
DTSTART:20241103T060000
END:STANDARD
BEGIN:DAYLIGHT
TZOFFSETFROM:-0500
TZOFFSETTO:-0400
TZNAME:EDT
DTSTART:20250309T070000
END:DAYLIGHT
BEGIN:STANDARD
TZOFFSETFROM:-0400
TZOFFSETTO:-0500
TZNAME:EST
DTSTART:20251102T060000
END:STANDARD
END:VTIMEZONE
BEGIN:VEVENT
DTSTART;TZID=America/New_York:20240412T170000
DTEND;TZID=America/New_York:20240412T190000
DTSTAMP:20260424T161445
CREATED:20240331T203708Z
LAST-MODIFIED:20240331T203708Z
UID:4892-1712941200-1712948400@moartdeland.org
SUMMARY:Opening Reception & Artist Talk
DESCRIPTION:Please join us for the Opening Reception of our new exhibition\, Yolanda Sánchez: The Colour of Spring at our Downtown DeLand gallery space\, featuring a special artist talk with Sánchez from 6-7 p.m. \nEVENT DETAILS \nOpening Reception & Artist Talk | Yolanda Sánchez: The Colour of Spring\n \nFriday\, April 12\, 2024  |  5-7 p.m. \nReception 5-6 p.m. | Artist Talk 6-7 p.m. \nMuseum of Art – DeLand\, Downtown Gallery \n100 N. Woodland Blvd. DeLand\, Florida 32720 \nAdmission: Members Free | Future Members $10 \nRSVPs are appreciated at (386) 734-4371. \n  \nTop image: Yolanda Sanchez\, Shanti\, 2021\, Silk organza fabric remnants\, Bojagi construction\, 24 x 24 in.
URL:https://moartdeland.org/event/yolanda-sanchez-reception/
LOCATION:Museum of Art – DeLand Downtown\, 100 N. Woodland Blvd.\, DeLand\, 32720\, United States
CATEGORIES:Exhibit Openings
ATTACH;FMTTYPE=image/jpeg:https://moartdeland.org/wp-content/uploads/2024/03/Yolanda-Sanchez-Shanti-2021-Silk-organza-fabric-remnants-Bojagi-construction-24-x-24-in-scaled-e1711917334384.jpg
END:VEVENT
END:VCALENDAR