
BEGIN:VCALENDAR
VERSION:2.0
PRODID:-//Museum of Art - DeLand - ECPv6.15.17//NONSGML v1.0//EN
CALSCALE:GREGORIAN
METHOD:PUBLISH
X-ORIGINAL-URL:https://moartdeland.org
X-WR-CALDESC:Events for Museum of Art - DeLand
REFRESH-INTERVAL;VALUE=DURATION:PT1H
X-Robots-Tag:noindex
X-PUBLISHED-TTL:PT1H
BEGIN:VTIMEZONE
TZID:America/New_York
BEGIN:DAYLIGHT
TZOFFSETFROM:-0500
TZOFFSETTO:-0400
TZNAME:EDT
DTSTART:20240310T070000
END:DAYLIGHT
BEGIN:STANDARD
TZOFFSETFROM:-0400
TZOFFSETTO:-0500
TZNAME:EST
DTSTART:20241103T060000
END:STANDARD
BEGIN:DAYLIGHT
TZOFFSETFROM:-0500
TZOFFSETTO:-0400
TZNAME:EDT
DTSTART:20250309T070000
END:DAYLIGHT
BEGIN:STANDARD
TZOFFSETFROM:-0400
TZOFFSETTO:-0500
TZNAME:EST
DTSTART:20251102T060000
END:STANDARD
BEGIN:DAYLIGHT
TZOFFSETFROM:-0500
TZOFFSETTO:-0400
TZNAME:EDT
DTSTART:20260308T070000
END:DAYLIGHT
BEGIN:STANDARD
TZOFFSETFROM:-0400
TZOFFSETTO:-0500
TZNAME:EST
DTSTART:20261101T060000
END:STANDARD
END:VTIMEZONE
BEGIN:VEVENT
DTSTART;TZID=America/New_York:20250118T100000
DTEND;TZID=America/New_York:20250406T160000
DTSTAMP:20260420T113917
CREATED:20241126T221048Z
LAST-MODIFIED:20241225T223403Z
UID:5380-1737194400-1743955200@moartdeland.org
SUMMARY:Carlie Trosclair
DESCRIPTION:Carlie Trosclair is a sculptor and installation artist who records and reimagines the genealogy of home and its relationship to the natural world. As the daughter of an electrician\, Trosclair spent her formative years in historic residential properties at varying stages of construction and renovation. Reflectively her work creates new topographies and narratives that highlight structural and decorative shifts evolving over a building’s lifespan. \nTrosclair’s site specific installations are powerful artworks that draw the viewer into the vulnerability and memory of a space. In her recent project with Houston’s Project Row Houses\, Trosclair addressed ideas of displacement and destruction from her experience of Hurricane Katrina in New Orleans. \nWhile visiting Central Florida for this solo exhibition\, Trosclair will be in residence for three weeks to make a work of art on-site at the historic Dutton House in DeLand. The owners of the home have allowed her access to cast original components of the historic house before it is restored. Trosclair will turn these castings into a work for public display. \nIn 2023\, Trosclair was named the Ellis-Beauregard Fellow for the Visual Arts and the South Arts Louisiana State Fellow for Visual Arts. Trosclair earned an M.F.A from the Sam Fox School of Design; Visual Arts at Washington University in St. Louis\, B.F.A from Loyola University New Orleans\, and is an alumni of the Community Arts Training Institute in St. Louis. Trosclair has participated in residencies including the Bemis Center for Contemporary Arts (NE)\, Loghaven Artist Residency (TN)\, Santa Fe Art Institute (NM)\, Joan Mitchell Center (LA)\, McColl Center (NC)\, and Vermont Studio Center. Trosclair’s work has been featured in Art in America\, The New York Times\, ArtFile Magazine\, and Temporary Art Review\, among others. She is the recipient of the Riverfront Times’ Mastermind Award\, Regional Arts Commission Artist Fellowship and the Great Rivers Biennial Award. \nIn this solo exhibition\, Trosclair expands on notions of home beyond the built environment\, exploring a symbiosis with the broader living landscape. Latex membranes of vines and tree trunks record traces of regenerative cycles. Remnants of the original environment are absorbed into each latex body\, crystallizing the textures and detritus of place. From the palimpsest of paint\, disintegration of wood\, or echo of tree rings\, these surfaces are connected in the ways they mark time. and all the lives we ever lived explores themes of memory\, loss\, and renewal through a collective witnessing of architectural and environmental histories. \n“And all the lives we ever lived\nand all the lives to be\nare full of trees and changing leaves.” \n― Virginia Woolf \n  \nEXHIBITION DETAILS \nCarlie Trosclair: all the lives we ever lived \nJanuary 18 – April 6\, 2025 \nMuseum of Art – DeLand\, Downtown Gallery \n100 N. Woodland Blvd. DeLand\, Florida 32720 \nAdmission: Members Free  |  Future Members $5 \n  \nThis exhibition is funded in part by a grant from South Arts in partnership with the National Endowment for the Arts and the Florida Division of Arts and Culture.\n \n \n  \n  \n  \n  \nImage: Carlie Trosclair\, Chrysalis: Reflections on the Interstitial\, Latex and salvaged wood\, 9 ft 5 in x 25 ft x 17 ft
URL:https://moartdeland.org/event/carlie-trosclair/
LOCATION:FL
CATEGORIES:Carlie Trosclair Exhibition & Events,Exhibitions,Featured
ATTACH;FMTTYPE=image/jpeg:https://moartdeland.org/wp-content/uploads/2024/12/Carlie-Trosclair-Chrysalis_Reflections-on-the-Interstitial-scaled.jpg
END:VEVENT
BEGIN:VEVENT
DTSTART;TZID=America/New_York:20250204T093000
DTEND;TZID=America/New_York:20250204T113000
DTSTAMP:20260420T113917
CREATED:20250114T211952Z
LAST-MODIFIED:20250131T182044Z
UID:5581-1738661400-1738668600@moartdeland.org
SUMMARY:Exploring Sumi-e with Fontaine Rodgers - Morning
DESCRIPTION:In this four week class\, Fontaine Rodgers will introduce the ancient art form of Sumi-e painting. Participants will explore brush strokes and their applications\, traditional subjects like bamboo\, lotus\, orchids\, insects and birds. Students will use authentic brushes\, ink\, and paper. This class is designed for all levels and all materials are provided. \nFontaine Rodgers is a member of the Sumi-e Society of America and teaches Sumi-e to adults and teens throughout Central Florida. She is a retired International Baccalaureate art teacher and President of the Central Florida Printmakers. \nEVENT DETAILS\n\nMeets Tuesdays\, Feb 4th – Feb 25th (4 weeks)\, 600 N. Woodland Blvd.\n9:30am-11:30am\n$100 for members & $120 for future members\nAges 16 and above\nNo refunds will be permitted within 7 days of the class.\n \nRegistration has been closed.
URL:https://moartdeland.org/event/exploring-sumi-e-1m/
LOCATION:Museum of Art – DeLand\, 600 N. Woodland Blvd.\, DeLand\, FL\, 32720\, United States
CATEGORIES:Other Events
ATTACH;FMTTYPE=image/jpeg:https://moartdeland.org/wp-content/uploads/2024/11/Exploring-Sumi-e-Workshop-Image-scaled.jpg
END:VEVENT
BEGIN:VEVENT
DTSTART;TZID=America/New_York:20250204T130000
DTEND;TZID=America/New_York:20250204T150000
DTSTAMP:20260420T113917
CREATED:20241125T144040Z
LAST-MODIFIED:20250114T213726Z
UID:5363-1738674000-1738681200@moartdeland.org
SUMMARY:Exploring Sumi-e with Fontaine Rodgers - Afternoon
DESCRIPTION:In this four week class\, Fontaine Rodgers will introduce the ancient art form of Sumi-e painting. Participants will explore brush strokes and their applications\, traditional subjects like bamboo\, lotus\, orchids\, insects and birds. Students will use authentic brushes\, ink\, and paper. This class is designed for all levels and all materials are provided. \nFontaine Rodgers is a member of the Sumi-e Society of America and teaches Sumi-e to adults and teens throughout Central Florida. She is a retired International Baccalaureate art teacher and President of the Central Florida Printmakers. \nEVENT DETAILS\n\nMeets Tuesdays\, Feb 4th – Feb 25th (4 weeks)\, 600 N. Woodland Blvd.\n1pm-3pm\n$100 for members & $120 for future members\nAges 16 and above\nNo refunds will be permitted within 7 days of the class.\n \nPurchase Tickets Below\nAfternoon Workshop Sold Out\nClick Here To Purchase Morning Tickets (9:30am – 11:30am)
URL:https://moartdeland.org/event/exploring-sumi-e-1/
LOCATION:Museum of Art – DeLand\, 600 N. Woodland Blvd.\, DeLand\, FL\, 32720\, United States
CATEGORIES:Other Events
ATTACH;FMTTYPE=image/jpeg:https://moartdeland.org/wp-content/uploads/2024/11/Exploring-Sumi-e-Workshop-Image-scaled.jpg
END:VEVENT
END:VCALENDAR