
BEGIN:VCALENDAR
VERSION:2.0
PRODID:-//Museum of Art - DeLand - ECPv6.15.17//NONSGML v1.0//EN
CALSCALE:GREGORIAN
METHOD:PUBLISH
X-WR-CALNAME:Museum of Art - DeLand
X-ORIGINAL-URL:https://moartdeland.org
X-WR-CALDESC:Events for Museum of Art - DeLand
REFRESH-INTERVAL;VALUE=DURATION:PT1H
X-Robots-Tag:noindex
X-PUBLISHED-TTL:PT1H
BEGIN:VTIMEZONE
TZID:America/New_York
BEGIN:DAYLIGHT
TZOFFSETFROM:-0500
TZOFFSETTO:-0400
TZNAME:EDT
DTSTART:20230312T070000
END:DAYLIGHT
BEGIN:STANDARD
TZOFFSETFROM:-0400
TZOFFSETTO:-0500
TZNAME:EST
DTSTART:20231105T060000
END:STANDARD
BEGIN:DAYLIGHT
TZOFFSETFROM:-0500
TZOFFSETTO:-0400
TZNAME:EDT
DTSTART:20240310T070000
END:DAYLIGHT
BEGIN:STANDARD
TZOFFSETFROM:-0400
TZOFFSETTO:-0500
TZNAME:EST
DTSTART:20241103T060000
END:STANDARD
BEGIN:DAYLIGHT
TZOFFSETFROM:-0500
TZOFFSETTO:-0400
TZNAME:EDT
DTSTART:20250309T070000
END:DAYLIGHT
BEGIN:STANDARD
TZOFFSETFROM:-0400
TZOFFSETTO:-0500
TZNAME:EST
DTSTART:20251102T060000
END:STANDARD
END:VTIMEZONE
BEGIN:VEVENT
DTSTART;TZID=America/New_York:20240906T100000
DTEND;TZID=America/New_York:20241123T160000
DTSTAMP:20260424T105720
CREATED:20240728T215729Z
LAST-MODIFIED:20241114T014848Z
UID:5035-1725616800-1732377600@moartdeland.org
SUMMARY:Carrie Ann Baade 
DESCRIPTION:Carrie Ann Baade is an American painter whose work deeply engages with art history. By quoting\, interacting with\, and reclaiming masterpieces in a surreal\, biographical narrative\, Baade creates a unique dialogue with the past. \n“As the steward and axman\,” Baade says\, “I return to haunting moments in art history to pick through the ‘boneyard’ of painting with reverence. I am a scavenger salvaging lost aesthetics seeking to reclaim\, not merely as a quotation. Composing with a woman’s voice\, the oil painting is the basis for dialog with the art’s past through complex imagery that unburdens the restrictions of a feminist psyche. These are paintings made of paintings\, fractured and altered to bare my psychological revelations and exhumed life lessons.” \nShe continues\, “Mining imagery from Renaissance and Baroque paintings\, these fragments provide a foundation to construct layered narratives that resemble fantastical parables. The compositions combine personal and classical symbology with luminescent color\, communicating themes of mortality\, sexuality\, personal transformation\, and the darker side of human nature. Rejecting the rational vision of life\, this artwork values the magic of the subconscious and the strange beauty in the unexpected\, the uncanny\, the disregarded\, and the unconventional.” \nRaised on the front range of Colorado\, Baade received her BFA from the School of the Art Institute of Chicago\, studied at the Florence Academy of Art in Italy\, and earned her MFA from the University of Delaware. She currently works in Tallahassee\, where she is a full Professor of Painting and Drawing at Florida State University. \nSince 2005\, Baade has had more than 30 solo exhibitions and participated in over 250 group exhibitions nationally and internationally. Her solo exhibits include shows at the Pensacola Art Museum (2022)\, Mesa Contemporary Museum of Art (2018)\, Museum of Contemporary Art in Jacksonville (2012)\, Delaware Contemporary (2007)\, La Luz de Jesus in Los Angeles (2018)\, and Ningbo Art Museum in China (2007). Her work has also been featured in notable group exhibitions at the John and Mable Ringling Museum of Art\, the Harwood Museum in Taos\, the Instituto de America de Santa Fe in Granada\, Spain\, and the Centrum Promocji Kultury Warszawa Praga Południe in Poland. \nBaade’s accolades include a State of Florida Individual Artist Fellowship Award and a Delaware Division of the Arts Award for Established Artist in Painting. \n  \nEXHIBITION DETAILS\nCarrie Ann Baade: Mirror Worlds \nSeptember 6 – November 23\, 2024 \nMuseum of Art – DeLand \n600 N. Woodland Blvd. DeLand\, Florida 32720 \nAdmission: Members Free | Future Members $5 \n  \nImage: Carrie Ann Baade\, Conscious and Unconscious\, Oil on panel \n\n 
URL:https://moartdeland.org/event/carrie-ann-baade/
LOCATION:Museum of Art – DeLand\, 600 N. Woodland Blvd.\, DeLand\, FL\, 32720\, United States
CATEGORIES:Exhibitions,Featured
ATTACH;FMTTYPE=image/jpeg:https://moartdeland.org/wp-content/uploads/2024/07/Sm_Carrie-Ann-Baade-Conscious-and-Unconscious-oil-on-panel-Copy.jpg
END:VEVENT
BEGIN:VEVENT
DTSTART;TZID=America/New_York:20240906T100000
DTEND;TZID=America/New_York:20241124T160000
DTSTAMP:20260424T105720
CREATED:20240728T220751Z
LAST-MODIFIED:20240912T234939Z
UID:5039-1725616800-1732464000@moartdeland.org
SUMMARY:The Whole of the Moon
DESCRIPTION:This fall-themed exhibition takes visitors on a journey through the more magical\, mysterious and macabre themed work within the Museum’s Permanent Collection. The Whole of The Moon features works by Kirsty Mitchell\, John O’Connor\, Richard Frank\, Judith Page\, Phil Parker\, Frank Rampolla\, Elsie Shaw\, Hiram Williams\, and many others. \n  \nEXHIBITION DETAILS\nThe Whole of the Moon: Selections from the Permanent Collection \nSeptember 6 – November 24\, 2024 \nMuseum of Art – DeLand \n600 N. Woodland Blvd. DeLand\, Florida 32720 \nAdmission: Members Free  |  Future Members $5 \n  \nImage: Kirsty Mitchell\, Gammelyn’s Daughter\, archival pigment print
URL:https://moartdeland.org/event/the-whole-of-the-moon/
LOCATION:Museum of Art – DeLand\, 600 N. Woodland Blvd.\, DeLand\, FL\, 32720\, United States
CATEGORIES:Exhibitions,Featured
ATTACH;FMTTYPE=image/jpeg:https://moartdeland.org/wp-content/uploads/2024/07/Sm_Kirsty-Mitchell-Gammelyns-Daughter.jpeg
END:VEVENT
BEGIN:VEVENT
DTSTART;TZID=America/New_York:20240911T103000
DTEND;TZID=America/New_York:20241023T120000
DTSTAMP:20260424T105720
CREATED:20240728T230403Z
LAST-MODIFIED:20240811T181717Z
UID:5045-1726050600-1729684800@moartdeland.org
SUMMARY:Docent Training Program
DESCRIPTION:Are you an art lover\, history buff\, public speaker\, or people-person? If you answered yes\, then we invite you to apply for our upcoming Docent Training Program. When you train to become a docent\, you’ll enjoy a mini-art history course with our Curator of Education\, Martha Underriner\, who has an MA in Art Education and an MFA in Studio Art. The training program will be an 8-week class\, meeting on a select Wednesday each month from 10:30 a.m. – 12 p.m. \nDocents are a vital link between what’s displayed in the Museum and how visitors respond to what they see. Our docents are a diverse group of volunteers who share a passion for art and the community. They are active\, enthusiastic\, imaginative\, and knowledgeable. Historically\, a docent was a tour guide who talked while visitors listened. Today\, docents do so much more than just talk.  Our docents help visitors of all ages discover the world of art by creating inquiry-based field studies and tours centered on the art. \nTo qualify as a docent you should have: \n\n\n\n\n\nAn abiding interest in the visual arts\nGood public speaking skills\nAbility to work well with children and adults\nFlexibility\, dependability\, time\, and commitment\n\n\n\n\n\n2024-2025 Docent Training Program Dates\nWednesday\, September 11\, 2024\nWednesday\, October 9\, 2024\nWednesday\, November 13\, 2024\nWednesday\, December 11\, 2024\nWednesday\, January 8\, 2025\nWednesday\, February 12\, 2025\nWednesday\, March 12\, 2025\nWednesday\, April 9\, 2025\n \n  \nTo apply\, click the link HERE and follow the application instructions. \n 
URL:https://moartdeland.org/event/docent-training-program-2024-25/
LOCATION:Museum of Art – DeLand\, 600 N. Woodland Blvd.\, DeLand\, FL\, 32720\, United States
CATEGORIES:Other Events
ATTACH;FMTTYPE=image/png:https://moartdeland.org/wp-content/uploads/2022/08/Docent-Training-Museum-of-Art-DeLand.png
END:VEVENT
BEGIN:VEVENT
DTSTART;TZID=America/New_York:20241005T100000
DTEND;TZID=America/New_York:20241229T160000
DTSTAMP:20260424T105720
CREATED:20240908T214810Z
LAST-MODIFIED:20240912T234404Z
UID:5228-1728122400-1735488000@moartdeland.org
SUMMARY:FORM + SPACE 2024
DESCRIPTION:The Museum of Art – DeLand proudly presents the inaugural FORM + SPACE 2024 International Juried Exhibition. This exhibition recognizes an expansive field of contemporary sculpture and the diverse practices of artists today who transform malleable materials into three dimensional artworks. \nInviting artists working in traditional and non-traditional sculptural materials to apply\, this diverse exhibition was curated by Museum of Art – DeLand staff along with special guest juror\, artist Eliza Au. \n  \nBrian Harper\, Bunker Series: Station Mount\, Ceramic\, wood\, adhesive\, 15x14x14″\nEXHIBITION DETAILS \nFORM + SPACE 2024 \nInternational Juried Exhibition of Contemporary Sculpture  \nMuseum of Art – DeLand \nOctober 5 – December 29\, 2024 \n100 N. Woodland Blvd. DeLand\, Florida 32720 \nAdmission: Members Free | Future Members $5 \n  \nABOUT OUR GUEST JUROR \nEliza Au is an Assistant Professor in Ceramics at the University of North Texas and an internationally exhibited artist with recent exhibitions at the Yingge Ceramics Museum\, the Montreal Museum of Fine Arts\, and the Mesa Contemporary Art Museum. She has been an artist in residence at the Northern Clay Center as a McKnight Resident\, the Corning Museum of Glass\, and the Museum of Contemporary Craft. \n  \nHeader Image: Brooke Armstrong\, Shoulder Like Wings\, Porcelain\, wire\, silk\, steel\, 46x30x14″
URL:https://moartdeland.org/event/form-space-2024/
LOCATION:Museum of Art – DeLand Downtown\, 100 N. Woodland Blvd.\, DeLand\, 32720\, United States
CATEGORIES:Exhibitions,Featured
ATTACH;FMTTYPE=image/jpeg:https://moartdeland.org/wp-content/uploads/2024/09/Brooke-Armstrong-Wallow-Your-Shoulder-Are-Like-Wings-Porcelain-wire-silk-steel-36x30x12-Copy.jpg
END:VEVENT
BEGIN:VEVENT
DTSTART;TZID=America/New_York:20241016T140000
DTEND;TZID=America/New_York:20241016T160000
DTSTAMP:20260424T105720
CREATED:20240815T135852Z
LAST-MODIFIED:20240815T162046Z
UID:5116-1729087200-1729094400@moartdeland.org
SUMMARY:Drawing Beyond the Lines Class
DESCRIPTION:Class Description\nThis class is an exciting graphic adventure beginning with an exploration of the powerful and symbolic basic shapes. We will explore line\, texture\, rendering and color with an emphasis on composition and design. In addition to exploring the circle\, triangle and square\, the use of various papers and other drawing tools will be covered. The class will also focus on drawing techniques of interest to each student individually. A completed sketch book and finished drawings will complete the session. Each class will focus on having fun while improving your drawing skills through practice and constructive critique. \nMeetings\nMeets on Wednesdays from 2:00-4:00pm\, October 16th-November 20th\, at 600 N. Woodland Blvd. \nMaterials\nAn 9×12 sketchbook and pencil will be provided for each student. All materials are included\, but students are welcome to bring their own specialized drawing materials. \nCost\n$125 for members/ $140 for non-members\nRegister online at moartdeland.org\nMaximum 10 students\, for adults ages 16+ \nDavid Fithian Bio\nDavid Fithian grew up in Daytona Beach\, Florida as a creative child and adolescent. He attended the Art Students League in Woodstock\, New York\, and the Pennsylvania Academy of the Fine Arts. David has taught at the Crealde School of Art in Winter Park\, the Maitland Art Center\, and the Artist’s Workshop in New Smyrna Beach. In addition to teaching he has managed the Graphics Department at Drexel University in Philadelphia\, operated a commercial photography and fine art studio\, and was the Curator of Art and Exhibitions at the Museum of Art – DeLand from 2001 until retiring in 2020. He maintains an active studio and exhibits his work regularly. \nClick Here To Purchase Tickets
URL:https://moartdeland.org/event/drawing-beyond-the-lines-class-4/
LOCATION:Museum of Art – DeLand\, 600 N. Woodland Blvd.\, DeLand\, FL\, 32720\, United States
CATEGORIES:Other Events
ATTACH;FMTTYPE=image/jpeg:https://moartdeland.org/wp-content/uploads/2024/02/David-Fithian-Drawing-Class-Image.jpg
END:VEVENT
END:VCALENDAR